Workbook
Name _1Excel_BuiltIn_Print_Area_1_1: STROJ!$A$1:$F$184
Name _1Excel_BuiltIn_Print_Area_1_1: #REF!
Name ADRESA: #REF!
Name ATR: #REF!
Name AUTOR: #REF!
Name autora: #REF!
Name brisi: #REF!
Name BROJ_CLANOVA: #REF!
Name BRP: #REF!
Name cijene: #REF!
Name DATOTEKA: #REF!
Name datum: #REF!
Name DATUM_DANAS: #REF!
Name DIR_KONZA: #REF!
Name DIREKTOR: #REF!
Name fdsfdsfs: #REF!
Name fsd: #REF!
Name fsdfs: #REF!
Name IME_DAT: #REF!
Name INVESTITOR: #REF!
Name jkljkljl: #REF!
Name JMBG: #REF!
Name KAT_OSTEC: #REF!
Name KONSTRUKTOR: #REF!
Name KONZALTING: #REF!
Name KOR_DATUM: #REF!
Name KOR_IME: #REF!
Name KOR_IME_OCA: #REF!
Name KOR_POVR: #REF!
Name KOR_PREZIME: #REF!
Name MJESEC: #REF!
Name MJESTO: #REF!
Name NASELJE: #REF!
Name OBJEKT: #REF!
Name odustani: #REF!
Name OPCINA: #REF!
Name PODRUCJE: #REF!
Name POVR_OBNOVE: #REF!
Name PROJEKTANT1: #REF!
Name PROJEKTANT2: #REF!
Name sdfsf: #REF!
Name sdfsfsf: #REF!
Name SIFRA_UPUTE: #REF!
Name VOD_PROJE: #REF!
Name xyz: #REF!
Name ZUPANIJA: #REF!

Sheet GO
A1: Investitor: JAVNA USTANOVA U KULTURI HRVATSKI DOM VUKOVAR, Vukovar, J. J. Strossmayera 20, OIB: 04839169507 Opis zahvata: ENERGETSKA OBNOVA RODNE KUĆE LAVOSLAVA RUŽIČKE Mjesto gradnje: Vukovar, J. J. Strossmayera 25, k.č. 1745, k.o. Vukovar Siječanj 2024., zajednički broj projekta: 30/2023
C2: JEDINICA MJERE | D2: KOLIČINA | E2: JEDINIČNA CIJENA U EURIMA BEZ PDV-A | F2: UKUPNA JEDINIČNA CIJENA U EURIMA BEZ PDV-A
B4: TROŠKOVNIK GRAĐEVINSKO - OBRTNIČKIH RADOVA
B6: GRAĐEVINSKI RADOVI
A8: 1. | B8: PRIPREMNI RADOVI, DEMONTAŽE I RUŠENJA
A11: 1. | B11: Izvedba pripremnih radova prije rušenja i sanacije (kontrola tehničkih rješenja predviđenih projektom, plan rušenja, kontrola i određivanje točnih geodetskih visina, provjera mjera i dimenzija postojeće konstrukcije, kontrola položaja priključka, izrada elaborata privremene regulacije prometa, izrada gradilišne ploče, ograđivanje gradilišta i sl.), drugi pripremni radovi koje je potrebno izvesti kako bi se mogao izraditi dinamički plan i osigurati uvjeti za siguran rad.
C12: komplet | D12: 1 | F12: =D12*E12 -> 0
A14: 2. | B14: Dobava, montaža i demontaža cijevne fasadne skele visine do 10 m1 sa svim potrebnim ukrućenjima i sidrenjima. Vertikale se postavljaju na svakih 1,80 m po propisima tehničke zaštite na radu. Bazna radna ploha se izvodi od mosnica. Radna skela se postavlja po cijelom opsegu građevine u širini 80 cm. U cijenu je uključena i postava na vanjski dio skele jutenih ili plastificiranih traka kao zaštite od sunca. Cijelu skelu izraditi prema odredbama propisa zaštite na radu. Prije izvedbe izvođač je dužan izraditi projekt skele sa predviđenim svim mjerama sigurnosti kod postave radnih podova, učvršćenja te osiguranja uvjeta za siguran rad i zaštitu radnika i prolaznika. Obračun stavke po m2 ortogonalne projekcije skele. | G14: ne znam zašto je ovo crveno, projekt skele se radi
C15: m2 | D15: 1140 | F15: =D15*E15 -> 0
A17: 3. | B17: Dobava, montaža i demontaža tunelske skele/prolaza za pješake, izrađenog od bešavnih cijevi i potrebnih spojnih elemenata, sa svim potrebnim ukrućenjima i sidrenjima. Pokrov tunela izraditi od mosnica položenih jedne do druge, a preko njih postaviti bitumensku ljepenku s preklopom minimalno 10 cm ili alternativno PVC foliju. Prije izvedbe skele izvođač je dužan izraditi projekt skele što je u cijeni stavke. Obračun se vrši po m2 vertikalne projekcije površine skele. U cijenu uračunati i naknadu za zauzimanje javnih površine.
C18: m2 | D18: 77 | F18: =D18*E18 -> 0
A20: 4. | B20: Demontaža i ponovna montaža nosača zastava, imena ulice, i sl. sa privremenim deponiranjem na sigurno mjesto.
A21: a / | B21: demontaža | C21: komplet | D21: 1 | F21: =D21*E21 -> 0
A22: b / | B22: montaža | C22: komplet | D22: 1 | F22: =D22*E22 -> 0
A24: 5. | B24: Demontaža postojeće limarije. Dio limarije se demontira i odlaže na gradilišnu deponiju radi ponovne ugradnje, dok se dio odvozi na za to predviđenu deponiju. Troškove odvoza i sve takse obuhvatiti jediničnom cijenom, jer se nikakvi troškovi odvoza neće posebno obračunavati.
B25: Obračun po m1.
A26: a / | B26: horizontalni ležeći oluk | C26: m1 | D26: 1 | F26: =D26*E26 -> 0
A27: b / | B27: vertikalni oluk | C27: m1 | D27: 47 | F27: =D27*E27 -> 0
A28: c / | B28: točkasti snjegobrani | C28: kom | D28: 15 | F28: =D28*E28 -> 0
A29: d / | B29: opšav zabata ("veter lajsna") (odvoz) | C29: m1 | D29: 12 | F29: =D29*E29 -> 0
A30: e / | B30: limena klupčica (odvoz) | C30: m1 | D30: 12 | F30: =D30*E30 -> 0
A31: f / | B31: opšav vijenca (odvoz) | C31: m1 | D31: 1 | F31: =D31*E31 -> 0
A32: g / | B32: opšav atike ravnog krova (odvoz) | C32: m1 | D32: 150 | F32: =D32*E32 -> 0
A34: 6. | B34: Skidanje i odvoz postojeće ETICS fasade od ekspandiranog polistirena d=5 cm. U cijenu uključen rad i odvoz na za to predviđenu deponiju, uključujući i čišćenje zida od ljepila nakon skidanja fasade. Obračun po m2.
C35: m2 | D35: 500 | F35: =D35*E35 -> 0
A37: 7. | B37: Skidanje postojećeg pokrova od biber crijepa sa odlaganjem na gradilišnu deponiju radi ponovne montaže. Crijep razgraditi u širini trake od 1 m po dužini zabatnog zida. Ovom stavkom obuhvaćena i demontaža sljemenjaka. Troškove odvoza i sve takse obuhvatiti jediničnom cijenom, jer se nikakvi troškovi odvoza neće posebno obračunavati.
B38: Obračun po m2 i m1 stvarne kose površine.
A39: a / | B39: biber crijep | C39: m2 | D39: 12 | F39: =D39*E39 -> 0
A40: b / | B40: sljeme | C40: m1 | D40: 1 | F40: =D40*E40 -> 0
A42: 8. | B42: Demontaža drvenih letvi postojećeg pokrova od biber crijepa sa odvozom na za to predviđenu deponiju. Letve razgraditi u širini trake od 1 m po dužini zabatnog zida, odnosno do kontraletve. Troškove odvoza i sve takse obuhvatiti jediničnom cijenom, jer se nikakvi troškovi odvoza neće posebno obračunavati.
B43: Obračun po m2 stvarne kose površine.
C44: m2 | D44: 12 | F44: =D44*E44 -> 0
A46: 9. | B46: Uklanjanje svih slojeva neprohodnog ravnog krova (hidroizolacija, xps, parna brana) ukupne debljine 14-15 cm. Materijale razdvajati, te deponirati na za to predviđenu deponiju. Slojevi se skidaju do betona za pad. U cijenu uračunati sav rad, prijenos i odvoz otpada na za to predviđenu deponiju.
B47: Obračun po m2.
C48: m2 | D48: 470 | F48: =D48*E48 -> 0
A50: 10. | B50: Završno čišćenje nakon završetka svih radova. U stavci obuhvaćeno pranje podova, odvoz šute,...
C51: komplet | D51: 1 | F51: =D51*E51 -> 0
A53: 11. | B53: Čišćenje okoliša nakon dovršetka radova. U cijenu uključiti kompletne troškove čišćenja sagrađenih površina u svim fazama rada tokom građenja,otklanjanje s gradilišta i odvoz na gradilišnu deponiju šuta, otpada i sl. Kao i uklanjanje svih pripremnih objekata i konstrukcija tako da se objekat čist i spreman preda investitoru.
C54: komplet | D54: 1 | F54: =D54*E54 -> 0
A56: =A8 -> 1. | B56: UKUPNO | F56: =SUM(F11:F55) -> 0
A57: 2. | B57: ZEMLJANI RADOVI
A59: 1. | B59: Ručni iskop zemlje za izvedbu šljunčane staze oko objekta.
B60: Potrebno je skinuti sloj humusa u visini od cca 10 cm. U cijenu uračunati iskop i odvoz zemlje na za to predviđenu deponiju.
C61: m3 | D61: 5 | F61: =SUM(D61*E61) -> 0
A63: 2. | B63: Dobava i ugradnja metalnih pocinčanih rubnjaka. Metalni vrtni rubnjaci dim. 2000x110/70/20 mm, pocinčani čelični lim 0,55 mm, visina 11cm, preklop 7 cm, stopica 2 cm, zaobljenje na vrhu do 4 mm, dužina po komadu 2 m. Spajanje uvlačenjem jednog rubnjaka ispod preklopa drugog rubnjaka u širini 4 cm i stiskanje preklopa kliještima. Lom pod kutem izvodi se rezanjem stopice kutnom brusilicom i na tom se mjestu savija pod željenim kutom. Obračun po m’ postavljenog rubnjaka.
C64: m1 | D64: 92 | F64: =SUM(D64*E64) -> 0
A66: 3. | B66: Izrada posteljice od zemljanog materijala, nagibe odrediti u dogovoru s nadzornim inženjerom, odnosno prema projektu. Poprečni nagib donje podloge 2 – 4%. Izrada obuhvaća planiranje i zbijanje glatkim valjcima ili valjcima s kotačima na gumama do traženog modula stišljivosti Ms>30,0 MN/m2.
B67: Cijenom obuhvatiti sva potrebna ispitivanja.
B68: Radove izvesti u skladu s O.T.U. 2-10.1.
B69: Obračun po m² izvedene posteljice
C70: m2 | D70: 42 | F70: =SUM(E70*D70) -> 0
A72: 4. | B72: Dobava i ugradnja geotekstila 500 g/m2 na bazi poliestera kao razdjelnog sloja zemljanog materijala i donjeg nosivog sloja od kamenog materijala. Geotekstil položiti sa preklopima. Sve radove odraditi prema uputstvima proizvođača. Obračun po m2 pokrivene površine.
C73: m2 | D73: 51 | F73: =D73*E73 -> 0
A75: 5. | B75: Dobava i nasipavanje staza oko objekta pranim šljunkom 16-32 mm preko geotekstila. Debljina sloja šljunka 10 cm. Obračun po m3 nasutog šljunka.
C76: m3 | D76: 4.1 | F76: =SUM(D76*E76) -> 0
A78: =A57 -> 2. | B78: UKUPNO | F78: =SUM(F59:F77) -> 0
A79: 3. | B79: ZIDARSKI RADOVI
A81: 1. | B81: Ručno obijanje žbuke zidova sokla uličnog pročelja i kolnog prolaza u visini do 1,2 m od okolnog terena sa odvozom na za to predviđenu deponiju. Točna visina obijanja utvrdit će se na licu mjesta u dogovoru s nadzornim inženjerom.
B82: Prilikom obijanja ostaviti markere radi izvedbe i kontrole profilacija.
B83: U cijenu uračunati sav rad, odvoz i zbrinjavanje otpada.
C84: m2 | D84: 42 | F84: =D84*E84 -> 0
A86: 2. | B86: Čišćenje sljubnica i reški između opeke u dubini min 2 cm na soklu uličnog pročelja u visini do 1,2 m.
B87: U cijenu uračunati sav rad, odvoz i zbrinjavanje otpada.
B88: Obračun po m2.
C89: m2 | D89: 42 | F89: =D89*E89 -> 0
A91: 3. | B91: Otprašivanje i pranje vodom pod pritiskom površine kompletnog pročelja nakon obijanja žbuke. Stavkom obuhvaćeno ulično pročelje, kao i zidovi kolnog prolaza (žbukani dijelovi zida). Ukoliko nije moguće čišćenje vodom, isto treba obaviti mehaničkim putem. Obračun po m2.
C92: m2 | D92: 226 | F92: =D92*E92 -> 0
A94: 4. | B94: Zapunjavanje očišćenih i osušenih sljubnica (ranije očišćenih) industrijskom sanacijskom žbukom za izravnavanje i s porama za taloženje soli.
B95: Svojstva: • Visoka paropropusnost • Veliki kapacitet pohranjivanja soli • Jednostavna strojna ugradnja • Izvrsna obradivost • Moguće veće debljine slojeva
B96: Tehnički podaci - Granulacija 0 - 1,5 mm - Minimalna debljina žbuke 20 mm - Gustoća suhog morta (EN 1015-10 "ili jednakovrijedno"___________________) pribl. 1.555 kg/m³ - Specifična gustoća svježeg morta pribl. 1.350 kg/m³ - Nasipna gustoća pribl. 1.050 kg/m³ - Paropropusnost μ 12 - 15 - pH-vrijednost pribl. 13 - Spec. kapacitet topline pribl. 1 kJ/kg K - Tlačna čvrstoća (28 d) ≤ 6 N/mm² (EN 1015-11 "ili jednakovrijedno"___________________) - Čvrstoća pri savijanju ≥ 1,5 N/mm² - Prionjivost (EN 1015-12 "ili jednakovrijedno"___________________) ≥ 0,08 N/mm² - E - modul ≤ 5.000 N/mm² - Vodoupojnost ≥ 1 kg/m² - Poroznost (B3345) pribl. 50 % - Udio zraka (EN 1015_7 "ili jednakovrijedno"___________________) pribl. 25 % - Sposobnost zadržavanja vode (B3345) pribl. 90 % - max. debljina nanosa pribl. 80 mm - Temperatura podloge > 5 - < 25 °C - Reakcija na požar A1 | G96: može
B97: Sastav: • Prirodno hidraulično vapno - NHL 5 prema EN 459-1 "ili jednakovrijedno"_________________________ • Bijeli cement • Visokokvalitetni lomljeni vapnenac • Lagani dodatak (mineralni) • Dodaci za poboljšanje obradivosti • Aditiv za stvaranje zračnih pora
B98: Za vrijeme obrade i sušenja temperatura okoline tj. podloge ne smije biti ispod +5°C i iznad +30°C. Tijekom obrade i stvrdnjavanja materijala štititi od smrzavanja minimalno 7 dana.
B99: Sve radove odraditi prema tehničkom listu i uputstvima proizvođača. U cijenu uračunati rad, dobavu, materijal. Obračun po m2 izvedenog zida.
C100: m2 | D100: 42 | F100: =D100*E100 -> 0
A102: 5. | B102: Kontrola i snimaka profilacija pod nadzorom konzervatora. Prvotno je profilaciju potrebno očistiti od naslaga boje i žbuke do izvornog sloja.
B103: Profilacije se odnose na dio sokla koji se obija.
C104: kom | D104: 2 | F104: =D104*E104 -> 0
A106: 6. | B106: Izrada šablona iz drvenih panela i lima za izvlačenje profilacija. Uz jednu radnu, potrebno je uvijek izvesti i jednu rezervnu. Sve šablone odobrava konzervatorski nadzor. Prije izvedbe šablona i odobrenja ne može se započeti sa obijanjem žbuke.
B107: Profilacije se odnose na dio sokla koji se obija.
C108: kom | D108: 2 | F108: =D108*E108 -> 0
A110: 7. | B110: Žbukanje zidova sokla višeslojnim sustavom u svemu prema uputi odabranog proizvođača.
B111: Sve radove odraditi prema tehničkom listu i uputstvima proizvođača. U cijenu uračunati rad, dobavu, materijal. Obračun po m2 izvedenog zida.
B112: Sastav sustava i način sanacije
A113: 1. faza | B113: Izvedba industrijskog vapnenog šprica na bazi NHL5.
B114: Svojstva: • Visoka paropropusnost • Veliki kapacitet pohranjivanja soli • Jednostavna strojna ugradnja • Izvrsna obradivost • Moguće veće debljine slojeva
B115: Tehnički podaci - Granulacija 0 - 1,5 mm - Minimalna debljina žbuke 20 mm - Gustoća suhog morta (EN 1015-10 "ili jednakovrijedno"___________________) pribl. 1.555 kg/m³ - Specifična gustoća svježeg morta pribl. 1.350 kg/m³ - Nasipna gustoća pribl. 1.050 kg/m³ - Paropropusnost μ 12 - 15 - pH-vrijednost pribl. 13 - Spec. kapacitet topline pribl. 1 kJ/kg K - Tlačna čvrstoća (28 d) ≤ 6 N/mm² (EN 1015-11 "ili jednakovrijedno"___________________) - Čvrstoća pri savijanju ≥ 1,5 N/mm² - Prionjivost (EN 1015-12 "ili jednakovrijedno"___________________) ≥ 0,08 N/mm² - E - modul ≤ 5.000 N/mm² - Vodoupojnost ≥ 1 kg/m² - Poroznost (B3345) pribl. 50 % - Udio zraka (EN 1015_7 "ili jednakovrijedno"___________________) pribl. 25 % - Sposobnost zadržavanja vode (B3345) pribl. 90 % - max. debljina nanosa pribl. 80 mm - Temperatura podloge > 5 - < 25 °C - Reakcija na požar A1 | G115: može
B116: Sastav: • Prirodno hidraulično vapno - NHL 5 prema EN 459-1 "ili jednakovrijedno________________________ • Bijeli cement • Visokokvalitetni lomljeni vapnenac • Lagani dodatak (mineralni) • Dodaci za poboljšanje obradivosti • Aditiv za stvaranje zračnih pora
B117: Za vrijeme obrade i sušenja temperatura okoline tj. podloge ne smije biti ispod +5°C i iznad +30°C. Tijekom obrade i stvrdnjavanja materijala štititi od smrzavanja minimalno 7 dana.
A118: 2. faza | B118: Izvedba industrijske žbuke za saniranje na bazi NHL5 za zidove opterećene vlagom i solima.
B119: Svojstva: • Visoka paropropusnost • Visoka otpornost na štete od soli • Jednostavna strojna ugradnja • Izvrsna obradivost • Moguće veće debljine slojeva • Nije potreban završni sloj
B120: Tehnički podaci: - Granulacija 0 - 1,5 mm - Minimalna debljina žbuke 20 mm - Gustoća suhog morta (EN 1015-10 "ili jednakovrijedno"___________________) pribl. 1.200 kg/m³ - Specifična gustoća svježeg morta pribl. 1.450 kg/m³ - Nasipna gustoća pribl. 1.200 kg/m³ - Paropropusnost μ pribl. 11 - pH-vrijednost pribl. 13 - Spec. kapacitet topline pribl. 1 kJ/kg K - Tlačna čvrstoća (28 d) pribl. 2,4 N/mm² (EN 1015-11 "ili jednakovrijedno"___________________) - Čvrstoća pri savijanju pribl. 1,5 N/mm² - Prionjivost (EN 1015-12 "ili jednakovrijedno"___________________) ≥ 0,08 N/mm² - E - modul pribl. 4.000 N/mm² - Vodoupojnost ≥ 0,3 kg/m²24h - Poroznost (B3345) ≥ 40 % - Udio zraka (EN 1015_7 "ili jednakovrijedno"___________________) 25 % - Sposobnost zadržavanja vode (B3345) pribl. 90 % - max. debljina nanosa pribl. 60 mm - Temperatura podloge ≥ 5 - ≤ 30 °C - Reakcija na požar A1 - Paropropusnost µ 5/20
B121: Sastav: • Prirodno hidraulično vapno - NHL 5 prema EN 459-1 "ili jednakovrijedno"_____________________ • Bijeli cement • Visokokvalitetni lomljeni vapnenac • Lagani dodatak (mineralni) • Dodaci za poboljšanje obradivosti • Aditiv za stvaranje zračnih pora
B122: Za vrijeme obrade i sušenja temperatura okoline odn. podloge ne smije pasti ispod +5°C niti premašiti +30°C. Za vrijeme obrade i stvrdnjavanja materijala, ali najmanje tjekom 3 dana štititi od mraza.
A123: 3. faza | B123: Izvedba industrijske sanacijske završne žbuke na bazi NHL-a.
B124: Svojstva: • Iznimna otpornost na vremenske utjecaje • Minimalano naprezanje prilikom stvrdnjavanja
B125: Tehnički podaci: - Gustoća suhog morta pribl. 1.350 Kg/L - Paropropusnost μ pribl. 10 - Tlačna čvrstoća (28 d) 2 N/mm² - Prionjivost (EN 1015-12 "ili jednakovrijedno"___________________) ≥ 0,08 N/mm² - Temperatura podloge > 5 - < 25 °C
B126: Sastav: • Prirodno hidraulično vapno - NHL 5 prema EN 459-1 "ili jednakovrijedno"____________________ • Bijeli cement • Visokokvalitetni lomljeni vapnenac • Dodaci za poboljšanje obradivosti • Ne sadrži organske komponente
B127: Za vrijeme obrade i sušenja temperatura okoline tj. podloge ne smije biti ispod +5°C i iznad +30°C. Tijekom obrade i stvrdnjavanja materijala štititi od smrzavanja minimalno 7 dana.
C128: m2 | D128: 42 | F128: =D128*E128 -> 0
A130: 8. | B130: Izrada vučenih profila i ukrasa u žbuci u dijelu obijenog sokla istim sustavom (gruba i fina žbuka) kao iz prethodne stavke. Završna obrada glatka.
...

Sheet STROJ
B3: REKAPITULACIJA-STROJARSKI RADOVI
B5: 1. PLINSKA INSTALACIJA | F5: =F44 -> 0
B7: 2. GRIJANJE I HLAĐENJE | F7: =F214 -> 0
B9: 3. VENTILACIJA | F9: =F251 -> 0
B11: 4. DEMONTAŽE I OSTALI RADOVI | F11: =F266 -> 0
B13: UKUPNO: | F13: =SUM(F3:F12) -> 0
B14: PDV 25%: | F14: =F13*0.25 -> 0
B15: SVEUKUPNO: | F15: =F13+F14 -> 0
A19: Br. | B19: Opis stavke | C19: Jedinica mjere | D19: Količina | E19: Jediničina cijena u eurima bez PDV-a | F19: Ukupna jedinična cijena u eurima bez PDV-a
B21: Napomena: u sve stavke uključiti troškove transporta, pripremno-završne radove montažni i potrošni materijal, do potpune pogonske gotovosti.
B24: 1. PLINSKA INSTALACIJA
A26: 1. | B26: Zatvaranje dovoda plina na ventilima kod plinomjera, pražnjene plinske isntalacije i priprema za izvođenje radova. | C26: komplet | D26: 1 | F26: =SUM(E26*D26) -> 0
A28: 2. | B28: Dobava i ugradnja bakrenih cijevi za razvod zemnog plina, spajanje tvrdim lemljenjem komplet sa T komadima, redukcijama, lukovima, MS prijelazima, proturnim cijevima, obujmicama, ovjesnim priborom i montažnim materijalom. U cijenu uključiti izradu prodora kroz zidove i stropove i zidarsku obradu otvora mortom.
B29: Ø28 mm | C29: m | D29: 6 | F29: =SUM(E29*D29) -> 0
A31: 3. | B31: Dobava i ugradnja kuglastog plinskog navojnog ventila sa termičkom zaštitom i montažnim materijalom:
B32: NO 20 | C32: kom | D32: 1 | F32: =SUM(E32*D32) -> 0
A34: 4. | B34: Tlačna proba plinske instalacije na čvrstoću i nepropusnost:
B35: Razvod plina tlaka 22 mbar: Ispitivanje na čvrstoću provodi se zrakom ili inertnim plinom tlaka 1 bar, nakon izjednačenja temperatura cjevovoda i okoline ispitni tlak ne smije opadati u trajanju 10 minuta. Ispitivanje na nepropusnost provodi se zrakom ili inertnim plinom tlaka 110 mbar. Nakon izjednačenja temperatura cjevovoda i zraka ispitni tlak ne smije opadati u trajanju 10 minuta. | C35: komplet | D35: 1 | F35: =SUM(E35*D35) -> 0
A37: 5. | B37: Ispitivanje plinske instalacije od strane ovlaštene pravne osobe.
B38: Razvod plina tlaka 22 mbar | C38: komplet | D38: 1 | F38: =SUM(E38*D38) -> 0
A40: 6. | B40: Izrada projekta izvedenog stanja plinske instalacije od strane ovlaštenog projektanta. | C40: komplet | D40: 1 | F40: =SUM(E40*D40) -> 0
A42: 7. | B42: Prijava i tehnički pregled plinske instalacije i plinskog uređaja od strane distributera plina. | C42: komplet | D42: 1 | F42: =SUM(E42*D42) -> 0
B44: UKUPNO: | F44: =SUM(F30:F42) -> 0
B45: 2. GRIJANJE I HLAĐENJE
A47: 1. | B47: Dobava i ugradnja zidnog plinskog kondenzacijskog uređaja za pogon nevisan o zraku iz prostora sa modulacijskim cilindričnim plamenikom za zemni plin, normni stupanj iskorištenja do 98%(Hs), 109%(Hi), normni učin grijanja Q=10,9-44,5 kW (tv=80/60°C), komplet sa regulatorom za pogon ovisno o vanjskoj temperaturi, vanjskim osjetnikom temperature, osjetnikom temperature spremnika PTV, osjetnikom temperature hidrauličke skretnice, proširenjem za crpke, priključnim setom sa crpkom kruga grijanja i crpkom spremnika PTV, utikačima, sifonom za kondenzat, priključkom na plinsku instalaciju i električnu instalaciju, montažnim materijalom i puštanjem u rad od strane ovlaštenog servisa. NAZIV PROZVOĐAČA: _____________________ MARKA ILI MODEL PROIZVODA: __________________ | C47: komplet | D47: 1 | F47: =SUM(E47*D47) -> 0
A49: 2. | B49: Dobava i ugradnja tipskog sustava za dovod zraka i odvod dimnih plinova od PPs-a za kondenzacijski uređaj, komplet sa montažnim materijalom, izvedba kroz krov Ø 80/125 koji se sastoji od:
B50: AZ klizni kolčak | C50: kom | D50: 1 | F50: =D50*E50 -> 0
B51: AZ cijevi, 1 m | C51: kom | D51: 4 | F51: =D51*E51 -> 0
B52: AZ revizijski dio-ravni | C52: kom | D52: 1 | F52: =D52*E52 -> 0
B53: Obujmica | C53: kom | D53: 2 | F53: =D53*E53 -> 0
B54: AZ krovno provođenje crno | C54: kom | D54: 1 | F54: =D54*E54 -> 0
B55: obruč ravnog krova | C55: kom | D55: 1 | F55: =D55*E55 -> 0
A57: 3. | B57: Dobava i ugradnja hidrauličke skretnice, protok do 4,5 m³/h priključci NO 40 komplet sa komplet sa tipskom izolacijom, zidnom konzolom i montažnim materijalom. | C57: kom | D57: 1 | F57: =SUM(E57*D57) -> 0
A59: 4. | B59: Dobava i ugradnja modulacijske dizalice topline zrak-voda za grijanje i hlađenje, split izvedbe sa vanjskom i unutarnjom jedinicom i automatskom regulacijom u unutarnjoj jedinici. NAZIV PROIZVOĐAČA: _________________ MARKA ILI MODEL PROIZVODA: _______________
B60: Vanjska jedinica: Tehnologija DC invertera za kontinuiranu regulaciju učina u svrhu optimalnog pogona u svim pogonskim uvjetima. Niska razina buke i vibracija, elektronički ekspanzijski ventil za povećanje sezonske učinkovitosti i aksijalni ventilator upravljanim brojem okretaja. Energetski učinkovito otapanje preko obrnute cirkulacije.
B61: Unutarnja jedinica: Pločasti izmjenjivač topline od plemenitog čelika za predaju topline sustavu grijanja, ugrađena visokoučinkovita cirkulacijska crpka za krug grijanja, 3-putni preklopni ventil i integrirani protočni grijačem, nadzornik tlaka i sigurnosna grupa. Unutarnja jedinica montira se na zid. Digitalna regulacija toplinske crpke vođena vremenskim prilikama ugrađena u unutarnju jedinicu, za pogon s klizno vođenom temperaturom toplinske crpke. Za instalacije s jednim krugom grijanja bez mješača i/ili – u spoju s proširenom opremom (pribor) – dva kruga grijanja s mješačem i regulacijom temperature u spremniku PTV-a.S osjetnikom vanjske temperature i osjetnicima temperature polaznog i povratnog voda sekundarnog kruga
B62: Dozvoljeno odstupanje od navedenih teh. osobina + 10%-0%
B63: Podaci o učinu grijanja prema EN 14511 pri A2/W35 "ili jednakovrijedno"________________, • Nazivni toplinski učin 7 kW • Primljena elektr. snaga 1,8 kW • Učinski koeficijent (COP) 3,9
B64: Podaci o učinu grijanja prema EN 14511 pri A7/W35 "ili jednakovrijedno"________________, • Nazivni toplinski učin 10,1 kW • Primljena elektr. snaga 2,0 kW • Učinski koeficijent (COP) 5,0
B65: Podaci o učinu grijanja prema EN 14511 A -7/W35 "ili jednakovrijedno"________________, • Nazivni toplinski učin 11,6 kW • Primljena elektr. snaga 3,9 kW • Učinski koeficijent (COP) 3,0
B66: Tehnički podaci o učinu hlađenja prema EN 14511 pri A35/W18 "ili jednakovrijedno"________________, • Učin hlađenja 10,5 kW • Primljena elektr. snaga 2,7 kW • Učinska vrijednost (EER) 3,8
B67: Ulazna temperatura zraka, pogon grijanja • Min. -20 °C • Maks. 35 °C
B68: Ulazna temperatura zraka, pogon hlađenja • Min. 15 °C • Maks. 35 °C
B69: • Maks. temperatura polaza 60 °C • Dozvoljeni pogonski tlak 3 bar
B70: Električni podaci vanjske jedinice • Nazivni napon kompresora 3/N/PE 400 V/50 Hz • Električna snaga max 3,9 kW
B71: Električni podaci unutarnje jedinice • Nazivni napon regulacije 1/N/PE 230 V/50 Hz • Primljena elektr. snaga sekundarne pumpe 60 W (PWM) Protočni grijač ogrijevne vode • Nazivni napon 1/N/PE 230 V/50 Hz ili 3/N/PE 400 V/50 Hz • Učin grijanja 9 kW
... B82: -sigurnosna sklopka za zaštitu od smrzavanja
B83: -spajanjem na električnu instalaciju i montažnim materijalom. | C83: komplet | D83: 3 | F83: =SUM(E83*D83) -> 0
A85: 5. | B85: Dubava i ugradnja izoliranig bakrenih cijevi za razvod tekuće i plinske faze radne tvari sa ovjesnim priborom i montažnim materijalom. U cijenu uključiti izradu prodora kroz zidove i stropove i zidarsku obradu otvora mortom.
B86: Ø9,52 mm | C86: m | D86: 60 | F86: =SUM(E86*D86) -> 0
B87: Ø15,87 mm | C87: m | D87: 60 | F87: =SUM(E87*D87) -> 0
A89: 6. | B89: Dobava i ugradnja spremnika za spremanje ogrjevne i rashladne vode, za sustave s dizalicama topline, s toplinskom izolacijom. Dozvoljena temperatura ogrjevne vode polaznog voda do 95°C i pogonski tlak grijanja do 3 bara. Tehnički podaci • Volumen spremnika 200 l • 4 priključka polaznog/povratnog voda R 6/4" • 3 priključka za uranjajuće čahure R 1/2" | C89: komplet | D89: 1 | F89: =SUM(E89*D89) -> 0
A91: 7. | B91: Dobava i ugradnja spremnika za zagrijavanje pitke vode u spoju s plinskim uređajima.
B92: Čelični emajlirani spremnik s uronjenom štapastom anodom. Ogrjevna spirala velike površine. Visokučinkovita toplinska izoalcija od PU-pjene
B93: Nazivni volumen 200 lit Radni tlak spremnika maks. 10 bara Radni tlak ogrjevne spirale maks. 10 bar Radna temepratura spremnika maks. 95 °C Radna temepratura ogrjevne spirale maks. 110 °C Priključak sa strane vode 1" Priključak sa strane grijanja 1" Priključak recirkulacije 3/4“ | C93: komplet | D93: 1 | F93: =D93*E93 -> 0
A95: 8. | B95: Dobava i ugradnja proširene opreme regulacije za krug grijanja sa mješačem za pogon ovisno o vanjskoj temperaturi za krug radijatorskog grijanja koja se sastoji od modula regulacije, motora mješača, nalijegajućeg temperaturnog osjetnika i utikača crpke. | C95: komplet | D95: 2 | F95: =D95*E95 -> 0
A97: 9. | B97: Dobava i ugradnja troputog mješajućg ventila sa pripremom za EM pogon komplet sa holenderima i montažnim materijalom:
B98: NO 25 | C98: kom | D98: 2 | F98: =D98*E98 -> 0
A100: 10. | B100: Dobava i ugradnja troputog mješajućeg ventila sa EM pogononom komplet sa holenderima i montažnim materijalom:
B101: NO 40 | C101: kom | D101: 1 | F101: =D101*E101 -> 0
A103: 11. | B103: Dobava i ugradnja kompaktnog razdjelnika polaznog i povratnog voda sa tipskom izolacijom. Priključci na razdjelniku:
B104: -polazni/povratni vod NO 40… kom 2
B105: -krug ventilokonvektora, polaz/povrat NO 40…kom 2
B106: -krug radijatora 1, polaz/povrat, NO32… kom 2
B107: -krug radijatora 2, polaz/povrat, NO32… kom 2
B108: -manometar… kom 1
B109: Komplet sa nosačima za ugradnju na zid i i montažnim materijalom. | C109: komplet | D109: 1 | F109: =D109*E109 -> 0
A111: 12. | B111: Dobava i ugradnja visokoučinkovitih cirkulacionih crpki sa elektroničkom regulacijom navojne izvedbe komplet sa holenderima, montažnim materijalom i spajanjem na električnu instalaciju:
B112: 30/0,5-10, NO 32, V=5 m³/h, dP=0,7 bar, 230V, 275 W | C112: kom | D112: 1 | F112: =SUM(E112*D112) -> 0
B113: 25/0,5-8, NO 25, V=3 m³/h, dP=0,6 bar, 230V, 160 W | C113: kom | D113: 2 | F113: =SUM(E113*D113) -> 0
A115: 13. | B115: Dobava i ugradnja kuglastih navojnih ventila sa montažnim materijalom:
B116: NO 40 | C116: kom | D116: 3 | F116: =SUM(E116*D116) -> 0
B117: NO 32 | C117: kom | D117: 6 | F117: =SUM(E117*D117) -> 0
B118: NO 25 | C118: kom | D118: 2 | F118: =SUM(E118*D118) -> 0
B119: NO 20 | C119: kom | D119: 2 | F119: =SUM(E119*D119) -> 0
B120: NO 15 | C120: kom | D120: 2 | F120: =SUM(E120*D120) -> 0
A122: 14. | B122: Dobava i ugradnja nepovratnih navojnih ventila sa montažnim materijalom:
B123: NO 40 | C123: kom | D123: 1 | F123: =SUM(E123*D123) -> 0
B124: NO 32 | C124: kom | D124: 2 | F124: =SUM(E124*D124) -> 0
B125: NO 25 | C125: kom | D125: 2 | F125: =SUM(E125*D125) -> 0
B126: NO 20 | C126: kom | D126: 1 | F126: =SUM(E126*D126) -> 0
A128: 15. | B128: Dobava i ugradnja navojnog ciklonskog odvajača mulja sa magnetom za kontinuirano otklanjajnje nečistoća iz sustava grijanja za radni tlak 10 bar sa montažnim materijalom:
B129: NO 50 | C129: kom | D129: 1 | F129: =D129*E129 -> 0
A131: 16. | B131: Dobava i ugradnja navojnog ciklonskog odvajača zraka za kontinuirano otklanjajnje mjehurića zraka iz sustava grijanja za radni tlak 10 bar sa montažnim materijalom:
B132: NO 50 | C132: kom | D132: 1 | F132: =D132*E132 -> 0
A134: 17. | B134: Dobava i ugradnja termometra 0-120 °C, priključak NO 15 sa montažnim materijalom. | C134: kom | D134: 3 | F134: =SUM(E134*D134) -> 0
A136: 18. | B136: Dobava i ugradnja manometra 0-6 bar sa manometarskim ventilom i montažnim materijalom. | C136: kom | D136: 1 | F136: =D136*E136 -> 0
A138: 19. | B138: Dobava i ugradnja sigurnosnog navojnog ventila sa montažnim materijalom.
B139: NO 25, po=2,5 bar | C139: kom | D139: 1 | F139: =SUM(E139*D139) -> 0
B140: NO 20, po=10 bar | C140: kom | D140: 1 | F140: =SUM(E140*D140) -> 0
A142: 20. | B142: Dobava i ugradnja membransko-ekspanzijske posude za grijanje s nogama za postavljanje i montažnim materijalom: Dozv. pogonski tlak: 3,0 bar Priključak: R 3/4"
B143: Korisni sadržaj maks.: 50 l | C143: kom | D143: 1 | F143: =SUM(E143*D143) -> 0
A145: 21. | B145: Dobava i ugradnja membransko-ekspanzijske posude za sanitarnu vodu s nogama za postavljanje i montažnim materijalom: Dozv. pogonski tlak: 10,0 bar Korisni sadržaj maks.: 18 l Priključak: R 3/4" | C145: kom | D145: 1 | F145: =SUM(E145*D145) -> 0
A147: 22. | B147: Dobava i ugradnja kuglastog navojnog ventila sa kapicom za membranske ekspanzione posude sa montažnim materijalom.
B148: NO 20 | C148: kom | D148: 2 | F148: =SUM(E148*D148) -> 0
A150: 23. | B150: Dobava i ugradnja slavine za punjenje i pražnjenje NO 15 sa montažnim materijalom. | C150: kom | D150: 4 | F150: =SUM(E150*D150) -> 0
A152: 24. | B152: Dobava i ugradnja automatskog odzračnog lončića NO 15 sa ventilom NO 15 i montažnim materijalom. | C152: kom | D152: 14 | F152: =SUM(E152*D152) -> 0
A154: 25. | B154: Dobava i ugradnja višebrzinskog ventilokonvektora sa inverterskim ventilatorom za dvocijevni sustav razvoda kazetne izvedbe za ugradnju u upušteni strop sa usisno istrujnom pločom i integriranim modulom za povezivanje na sustav upravljanja, komplet sa troputim ventilom sa elektro pogonom, 1 kom, ventilima NO 20-1 kom, ventilom za hidrauličko uravoteženje NO20-1 kom fleksibilnim priključnim cijevima 2 kom, ovjesima, montažnim materijalom i spajanjem na električnu instalaciju. Navedeni rashladni učin ventilokonvektora na max. brzini tv/tr 7/12°C, učin grijanja na max. brzini tv/tr 50/40°C.
B155: Veličina 82, Qg=5,9, Qh=5,97 kW | C155: kom | D155: 6 | F155: =SUM(E155*D155) -> 0
A157: 26. | B157: Dobava i ugradnja višebrzinskog ventilokonvektora sa inverterskim ventilatorom za dvocijevni sustav razvoda sa maskom, ugradnja na parapetni zid sa dodatnim modulom za povezivanje na sustav upravljanja, komplet sa troputim ventilom sa elektro pogonom, 1 kom, ventilima NO 15-1 kom, ventilom za hidrauličko uravoteženje NO15-1 kom fleksibilnim priključnim cijevima 2 kom, ovjesima, montažnim materijalom i spajanjem na električnu instalaciju. Navedeni rashladni učin ventilokonvektora na max. brzini tv/tr 7/12°C, učin grijanja na max. brzini tv/tr 50/40°C.
...

Sheet ELEKTROINSTALACIJE
D2: TROŠKOVNIK ELEKTROINSTALACIJA
A5: 1. | D5: ELEKTROENERGETSKE INSTALACIJE
F7: Jedinica mjere | G7: količina | H7: Jedinična cijena u eurima bez PDV-a | I7: Ukupna jedinična cijena u eurima bez PDV-a
A9: =A5 -> 1. | B9: 1 | D9: Demontaža svih postojećih rasvjetnih tijela i tračnica za rasvjetu u prostorima u kojima će montirati nova rasvjeta | F9: kom | G9: 1 | I9: =H9*G9 -> 0
A11: =A9 -> 1. | B11: =B9+1 -> 2 | D11: Dobava i montaža led reflektora s direktnom simetričnom svjetlosnom distribucijom. Kut snopa svjetlosti 46°. Kućište svjetiljke izrađeno od tlačno lijevanog aluminija završno bojanog u crnu boju. Mogućnost vertikalnog zakretanja od 0° do 90° i horiznotalnog 360°. Dimenzije svjetiljke fi74x177x131mm. LED sustav maksimalne snage 23W. Masa svjetiljke 0.57kg. Klasa zaštite III. Radni napon 48V DC. Mogućnost regulacije putem DALI protokola. Životni vijek LED izvora minimalno 50.000 sati L90B10. Minimalni izlazni svjetlosni tok svjetiljke 2076lm. Minimalna efikasnost izvora svjetlosti 115lm/W. Minimalna efikasnost svjetiljke 90lm/W. Temperatura boje 3000K. Uzvrat boja minimalno CRI90. Konzistentnost temperature boje SDCM maksimalno 1.5 step. Minimalni raspon temperaturnog područja rada od 0°C do +25°C. Stupanj mehaničke zaštite minimalno IP20. CE certificirana svjetiljka "ili jednakovrijedno"_______________ Sa svim potrebnim priborom, priključnim materijalom i elementima. Oznaka u projektu "S1". NAZIV PROIZVOĐAČA: ________________ MODEL ILI TIP PROIZVODA: _______________
D12: Kriteriji za ocjenu jednakovrijednosti: - Tračni reflektor s direktnom simetričnom svjetlosnom distribucijom. - Kut snopa svjetlosti 46°. - Kućište svjetiljke izrađeno od tlačno lijevanog aluminija završno bojanog u crnu boju. - Mogućnost vertikalnog zakretanja od 0° do 90° i horiznotalnog 360°. - Dimenzije svjetiljke fi74x177x131mm. - LED sustav maksimalne snage 23W. - Masa svjetiljke 0.57kg. - Klasa zaštite III. - Radni napon 48V DC. - Mogućnost regulacije putem DALI protokola. - Životni vijek LED izvora minimalno 50.000 sati L90B10. - Minimalni izlazni svjetlosni tok svjetiljke 2076lm. - Minimalna efikasnost svjetiljke 90lm/W. - Temperatura boje 3000K. - Uzvrat boja minimalno CRI90. - Konzistentnost temperature boje SDCM maksimalno 1.5 step. - Minimalni raspon temperaturnog područja rada od 0°C do +25°C. - Stupanj mehaničke zaštite minimalno IP20. - CE certificirana svjetiljka ili jednakovrijedno ____________________________________ | F12: kom | G12: 26 | I12: =H12*G12 -> 0
A14: =A11 -> 1. | B14: =B11+1 -> 3 | D14: Dobava i montaža tračne svjetiljke s direktnom simetričnom svjetlosnom distribucijom. Kućište svjetiljke izrađeno od ekstrudiranog aluminija završno bojanog u crnu boju. Opalni difuzor izrađen od polikarbonata. Dimenzije svjetiljke L=1132x27x29mm. Masa svjetiljke 0.78kg. Klasa zaštite III. Radni napon 48V DC. Mogućnost regulacije putem DALI protokola. LED sustav maksimalne snage 26W. Životni vijek LED izvora minimalno 50.000 sati L89B10. Minimalni izlazni svjetlosni tok svjetiljke 1868lm. Minimalna efikasnost svjetiljke 72lm/W. Temperatura boje 3000K. Uzvrat boja minimalno CRI90. Konzistentnost temperature boje SDCM maksimalno 2 step. Minimalni raspon temperaturnog područja rada od 0°C do +25°C. Stupanj mehaničke zaštite minimalno IP20. CE certificirana svjetiljka "ili jednakovrijedno"___________________ Sa svim potrebnim priborom, priključnim materijalom i elementima. Oznaka u projektu "S2". NAZIV PROIZVOĐAČA: ________________ MODEL ILI TIP PROIZVODA: _______________
D15: Kriteriji za ocjenu jednakovrijednosti: - Tračna svjetiljka s direktnom simetričnom svjetlosnom distribucijom. - Kućište svjetiljke izrađeno od ekstrudiranog aluminija završno bojanog u crnu boju. - Opalni difuzor izrađen od polikarbonata. - Dimenzije svjetiljke L=1132x27x29mm. - Masa svjetiljke 0.78kg. - Klasa zaštite III. - Radni napon 48V DC. - Mogućnost regulacije putem DALI protokola. - LED sustav maksimalne snage 26W. - Životni vijek LED izvora minimalno 50.000 sati L89B10. - Minimalni izlazni svjetlosni tok svjetiljke 1868lm. - Minimalna efikasnost svjetiljke 72lm/W. - Temperatura boje 3000K. - Uzvrat boja minimalno CRI90. - Konzistentnost temperature boje SDCM maksimalno 2 step. - Minimalni raspon temperaturnog područja rada od 0°C do +25°C. - Stupanj mehaničke zaštite minimalno IP20. - CE certificirana svjetiljka ili jednakovrijedno ____________________________________ | F15: kom | G15: 10 | I15: =H15*G15 -> 0
A17: =A14 -> 1. | B17: =B14+1 -> 4 | D17: Dobava i montaža nadgradne svjetiljke s direktnom svjetlosnom distribucijom. Kućište svjetiljke izrađeno od aluminija završno bojanog u bijelu boju RAL9016. Mikroprizmatični difuzor izrađen od PMMA za spriječavanje omnidirekcionalnog blještanja, CAT 2 (L<3000cd/m^2). Faktor blještanja UGR<19. Dimenzija svjetiljke 3004x53x53mm. Masa svjetiljke 5.5kg. Klasa zaštite I. Radni napon 220-240V AC. LED sustav maksimalne snage 58.2W. Mogućnost regulacije intenziteta svjetlosti putem DALI protokola. Životni vijek LED izvora minimalno 70.000 sati L80B50. Minimalni izlazni svjetlosni tok svjetiljke 8200lm. Minimalna efikasnost svjetiljke 141lm/W. Temperatura boje 4000K. Uzvrat boja minimalno CRI80. Minimalni raspon temperaturnog područja rada od 0°C do +35°C. Konzistentnost temperature boje MacAdam maksimalno 3 step. Stupanj mehaničke zaštite minimalno IP20. Svjetiljka izrađena prema HR EN 50419 standardu "ili jednakovrijedno"_______________. CE certificirana svjetiljka "ili jednakovrijedno"______________________ Sa svim potrebnim priborom, priključnim materijalom i elementima. Oznaka u projektu "S3". NAZIV PROIZVOĐAČA: ________________ MODEL ILI TIP PROIZVODA: _______________
D18: Kriteriji za ocjenu jednakovrijednosti: Nadgradna svjetiljka s direktnom svjetlosnom distribucijom. - Kućište svjetiljke izrađeno od aluminija završno bojanog u bijelu boju RAL9016 ili jednakovrijedno ________________________ - Mikroprizmatični difuzor izrađen od PMMA za spriječavanje omnidirekcionalnog CAT 2 (L<3000cd/m^2). - Faktor blještanja UGR<19. - Dimenzija svjetiljke 3004x53x53mm. - Masa svjetiljke 5.5kg. - Klasa zaštite I. - Radni napon 220-240V AC. - LED sustav maksimalne snage 58.2W. - Mogućnost regulacije intenziteta svjetlosti putem DALI protokola. - Životni vijek LED izvora minimalno 70.000 sati L80B50. - Minimalni izlazni svjetlosni tok svjetiljke 8200lm. - Minimalna efikasnost svjetiljke 141lm/W. - Temperatura boje 4000K. - Uzvrat boja minimalno CRI80. - Minimalni raspon temperaturnog područja rada od 0°C do +35°C. - Konzistentnost temperature boje MacAdam maksimalno 3 step. - Stupanj mehaničke zaštite minimalno IP20. - Svjetiljka izrađena prema HR EN 50419 standardu ili jednakovrijedno _______________________________ - CE certificirana svjetiljka ili jednakovrijedno ________________________________ | F18: kom | G18: 7 | I18: =H18*G18 -> 0
A20: =A17 -> 1. | B20: =B17+1 -> 5 | D20: Dobava i montaža okrugle ugradne svjetiljke s direktnom svjetlosnom distribucijom. Kućište svjetiljke izrađeno od tlačno lijevanog aluminija završno bojanog u bijelu boju RAL9016. Faktor blještanja UGR<19. Dimenzije svjetiljke fi213x66mm. Masa svjetiljke 1.0kg. Radni napon 220-240V AC. Klasa zaštite II. LED sustav maksimalne snage 18W. Životni vijek LED izvora minimalno 50.000 sati L80B50. Minimalni izlazni svjetlosni tok 2280lm. Minimalna efikasnost svjetiljke 129lm/W. Temperatura boje 4000K. Uzvrat boja minimalno CRI80. Konzistentnost temperature boje MacAdam maksimalno 3 step. Stupanj mehaničke zaštite minimalno IP20/IP54 IK02. CE certificirana svjetiljka "ili jednakovrijedno"_________________ Sa svim potrebnim priborom, priključnim materijalom i elementima. Oznaka u projektu "S4". NAZIV PROIZVOĐAČA: __________________ MARKA ILI MODEL PROIZVODA: ________________
D21: Kriteriji za ocjenu jednakovrijednosti: - Okrugla ugradna svjetiljka s direktnom svjetlosnom distribucijom - Kućište svjetiljke izrađeno od tlačno lijevanog aluminija završno bojanog u bijelu boju RAL9016 ili jednakovrijedno ____________________________________ - Dimenzije svjetiljke fi213x66mm - Masa svjetiljke 1.0kg - Radni napon 220-240V AC - Klasa zaštite II - LED sustav maksimalne snage 18W - Životni vijek LED izvora minimalno 50.000 sati L80B50 - Minimalni izlazni svjetlosni tok 2280lm - Minimalna efikasnost svjetiljke 129lm/W - Temperatura boje 4000K - Uzvrat boja minimalno CRI80 - Konzistentnost temperature boje MacAdam maksimalno 3 step - Stupanj mehaničke zaštite minimalno IP20/IP54 IK02 - CE certificirana svjetiljka ili jednakovrijedno ____________________________________ | F21: kom | G21: 19 | I21: =H21*G21 -> 0
A23: =A20 -> 1. | B23: =B20+1 -> 6 | D23: Dobava okrugle ugradne svjetiljke s direktnom svjetlosnom distribucijom. Kućište svjetiljke izrađeno od tlačno lijevanog aluminija završno bojanog u bijelu boju RAL9016. Faktor blještanja UGR<19. Dimenzije svjetiljke fi213x66mm. Masa svjetiljke 1.0kg. Radni napon 220-240V AC. Mogućnost regulacije putem DALI protokola. Klasa zaštite II. LED sustav maksimalne snage 31W. Životni vijek LED izvora minimalno 50.000 sati L80B50. Minimalni izlazni svjetlosni tok 3560lm. Minimalna efikasnost svjetiljke 115lm/W. Temperatura boje 4000K. Uzvrat boja minimalno CRI80. Konzistentnost temperature boje MacAdam maksimalno 3 step. Stupanj mehaničke zaštite minimalno IP20/IP54 IK02. CE certificirana svjetiljka "ili jednakoverijedno"________________ Sa svim potrebnim priborom, priključnim materijalom i elementima. Oznaka u projektu "S5". NAZIV PROIZVOĐAČA: ________________ MODEL ILI TIP PROIZVODA: _______________
D24: Kriteriji za ocjenu jednakovrijednosti: - Okrugla ugradna svjetiljka s direktnom svjetlosnom distribucijom - Kućište svjetiljke izrađeno od tlačno lijevanog aluminija završno bojanog u bijelu boju RAL9016 ili jednakovrijedno ____________________________________ - Dimenzije svjetiljke fi213x66mm - Masa svjetiljke 1.0kg - Radni napon 220-240V AC - Klasa zaštite II - Mogućnost regulacije putem DALI protokola - LED sustav maksimalne snage 31W - Životni vijek LED izvora minimalno 50.000 sati L80B50 - Minimalni izlazni svjetlosni tok 3560lm - Minimalna efikasnost svjetiljke 115lm/W - Temperatura boje 4000K - Uzvrat boja minimalno CRI80 - Konzistentnost temperature boje MacAdam maksimalno 3 step - Stupanj mehaničke zaštite minimalno IP20/IP54 IK02 - CE certificirana svjetiljka ili jednakovrijedno ___________________________________ | F24: kom | G24: 16 | I24: =H24*G24 -> 0
A26: =A23 -> 1. | B26: =B23+1 -> 7 | D26: Dobava i montaža nadgradne magnetne tračnice 48V za montažu reflektora i linijskih inserata. Tračnica izrađena od aluminija u crnoj boji. Montaža rasvjetnih tijela putem magneta bez alata. U kompletu sa završnim kapama, nosačima i svim potrebnim priborom te spojnim elementima za montažu uključujuči i LED predspojnu napravu.Stupanj mehaničke zaštite minimalno IP20. Dimenzije poprečnog presjeka tračnice 26.2x28.7mm.Klasa zaštite III. Duljina segmenta tračnice 3m. | F26: kom | G26: 27 | I26: =H26*G26 -> 0
A28: =A26 -> 1. | B28: =B26+1 -> 8 | D28: Dobava i montaža nadgradne zidne protupanične svjetiljke s optikom za osvjetljavanje evakuacijskih puteva. Kučište svjetiljke izrađeno od polikarbonata završno bojanog u bijelu boju. Difuzor od polikarbonata. Snaga led izvora 2W. Autonomija rada minimalno 3h. Autotest dijagnostika. Radni napon 220-240V AC. Klasa zaštite II. Dimenzije svjetiljke 132x132x54mm. Minimalni izlazni svjetlosni tok svjetiljke 350lm. Minimalni raspon temperaturnog područja rada od 0°C do +40°C. Stupanj mehaničke zaštite minimalno IP41 IK07. Životni vijek LED izvora minimalno 50.000 sati. Temperatura boje 6000K. CE certificirana svjetiljka "ili jednakovrijedno"_________________ Sa svim potrebnim priborom, priključnim materijalom i elementima. Oznaka u projektu "EM1" NAZIV PROIZVOĐAČA: ________________ MODEL ILI TIP PROIZVODA: _______________
D29: Kriterij za ocjenu jednakovrijednosti: - Nadgradna svjetiljka sigurnosne rasvjete s optikom za osvjetljavanje evakuacijskih puteva. - Kučište svjetiljke izrađeno od polikarbonata završno bojanog u bijelu boju. - Difuzor od polikarbonata. - Snaga led izvora 2W. - Autonomija rada minimalno 3h. - Minimalni izlazni svjetlosni tok svjetiljke 350lm. - Autotest dijagnostika. - Radni napon 220-240V AC. - Klasa zaštite II. - Dimenzije svjetiljke 132x132x54mm. - Minimalni raspon temperaturnog područja rada od 0°C do +40°C. - Stupanj mehaničke zaštite minimalno IP41 IK07. - Životni vijek LED izvora minimalno 50.000 sati. - Temperatura boje 6000K. - CE certificirana svjetiljka ili jednakovrijedno ______________ ____________________________________ | F29: kom | G29: 11 | I29: =H29*G29 -> 0
A31: =A28 -> 1. | B31: =B28+1 -> 9 | D31: Dobava nadgradne, zidne protupanične svjetiljke s jednostrano digitalno printanim pokazivačem smjera "PK DOLJE". Kučište svjetiljke izrađeno od polikarbonata završno bojanog u bijelu boju. Opalni polikarbonatni difuzor. Snaga led izvora 2W. Autonomija rada minimalno 3h. Dimenzije svjetiljke 337x187x57mm. Autotest dijagnostika. Radni napon 220-240V AC. Klasa zaštite II. Vidljivost uočavanja piktograma VD minimalno 30m. Minimalni raspon temperaturnog područja rada od 0°C do +40°C. Stupanj mehaničke zaštite minimalno IP40 IK08. Životni vijek LED izvora minimalno 50.000 sati. Temperatura boje 6000K. CE certificirana svjetiljka "ili jednakovrijedno"_________________ Sa svim potrebnim priborom, priključnim materijalom i elementima. Oznaka u projektu "P1". NAZIV PROIZVOĐAČA: _________________ MODEL ILI TIP PROIZVODA: _________________
D32: Kriterij za ocjenu jednakovrijednosti: - Nadgradna, zidna protupanična svjetiljke s jednostrano digitalno printanim pokazivačem smjera "PK DOLJE " - Kučište svjetiljke izrađeno od polikarbonata završno bojanog u bijelu boju. - Opalni polikarbonatni difuzor. - Snaga led izvora maksimalno 2W - Autonomija rada minimalno 3h - Dimenzije svjetiljke 337x187x57mm. - Radni napon 220-240V AC - Klasa zaštite II - Minimalni raspon temperaturnog područja rada od 0°C do +40°C -Životni vijek LED izvora minimalno 50.000 sati - Temperatura boje 6000K - Stupanj mehaničke zaštite minimalno IP40 IK08 - Vidljivost uočavanja piktograma VD minimalno 30m - CE certificirana svjetiljka ili jednakovrijedno ____________________________ | F32: kom | G32: 8 | I32: =H32*G32 -> 0
A34: =A31 -> 1. | B34: =B31+1 -> 10 | D34: Dobava programabilnog DALI kontrolera za regulaciju intenziteta jakosti svjetlosnog toka svjetiljki. Kontroler za montažu na DIN šinu. Mogućnost integracije s BMS putem Etherneta. Dimenzije 160x100x58mm. Integriran sat. Mogućnost adresiranja i kontrole minimalno 64 svjetiljke. Mogućnost programiranja i dimanja svake svjetiljke individualno. CE certifciran "ili jednakovrijedno"________________. Ulazni napon 100V AC - 240V AC. | F34: kom | G34: 1 | I34: =H34*G34 -> 0
A36: =A34 -> 1. | B36: =B34+1 -> 11 | D36: Dobava programabilnog tipkala sa šest 8 programabilnih tipki bijele boje. Mogućnost odabira i kontrole do 7 scena + zaseban tipka za isključivanje.Dimenzije 35.4x48.4x31.8mm. CE certificirano "ili jednakovrijedno"________________,. U kompletu sa svim potrebnim dijelovima. | F36: kom | G36: 1 | I36: =H36*G36 -> 0
A38: =A36 -> 1. | B38: =B36+1 -> 12 | D38: Dobava i montaža jednorednog nadžbukong ormarića za smještaj DALi kontrolera, širine minimalno 10 DIN | F38: kom | G38: 1 | I38: =H38*G38 -> 0
A40: =A38 -> 1. | B40: =B38+1 -> 13 | D40: Demontaža stropnih svjetiljki u prostoru natkrivene terase, produžavanje napojnih kabela te ponovna montaža svjetiljki nakon izvedbe izolacije stropa | F40: kom | G40: 4 | I40: =H40*G40 -> 0
A42: =A40 -> 1. | B42: =B40+1 -> 14 | D42: Demontaža zidnih svjetiljki na dvorišnom zidu (na dijelu gdje će se stavljati izolacija), produžavanje napojnih kabela te ponovna montaža svjetiljki nakon izvedbe izolacije zida | F42: kom | G42: 4 | I42: =H42*G42 -> 0
A44: =A42 -> 1. | B44: =B42+1 -> 15 | D44: Demontaža svih elemenata na stropu unutar hodnika na dijelu gdje će se spuštati strop (rasvjeta, panik rasvjeta, javljač požara), produžavanje kabela, te monovna montaža nakon izvedbe spuštenog stropa | F44: kom | G44: 6 | I44: =H44*G44 -> 0
A46: =A44 -> 1. | B46: =B44+1 -> 16 | D46: Dobava i polaganje voda NYM-J 3x1,5mm2 | F46: m | G46: 140 | I46: =H46*G46 -> 0
A48: =A46 -> 1. | B48: =B46+1 -> 17 | D48: Dobava i polaganje voda NYM-J 3x2,5mm2 | F48: m | G48: 10 | I48: =H48*G48 -> 0
A50: =A48 -> 1. | B50: =B48+1 -> 18 | D50: Dobava i polaganje voda s očuvanom električnom funkcionalnožću 90min u slučaju požara NHXH-J FE180/E90 3x1,5mm2 | F50: m | G50: 5 | I50: =H50*G50 -> 0
A52: =A50 -> 1. | B52: =B50+1 -> 19 | D52: Dobava i polaganje voda NYY-J 5x2,5mm2 | F52: m | G52: 30 | I52: =H52*G52 -> 0
A54: =A52 -> 1. | B54: =B52+1 -> 20 | D54: Dobava i polaganje voda NYM-J 5x4mm2 | F54: m | G54: 25 | I54: =H54*G54 -> 0
A56: =A54 -> 1. | B56: =B54+1 -> 21 | D56: Dobava i polaganje voda NYY-J 5x16mm3 | F56: m | G56: 40 | I56: =H56*G56 -> 0
A58: =A54 -> 1. | B58: =B54+1 -> 21 | D58: Dobava i polaganje voda H07V-K 6 mm2 (izjednačenje potencijala) | F58: m | G58: 20 | I58: =H58*G58 -> 0
A60: =A56 -> 1. | B60: =B56+1 -> 22 | D60: Dobava i polaganje voda LiYCY 2x0,75 mm2 | F60: m | G60: 25 | I60: =H60*G60 -> 0
A62: =A58 -> 1. | B62: =B60+1 -> 23 | D62: Dobava i polaganje voda LiYCY 3x0,34 mm3 | F62: m | G62: 40 | I62: =H62*G62 -> 0
A64: =A60 -> 1. | B64: =B62+1 -> 24 | D64: Dobava i polaganje voda LiYCY 4x0,34 mm4 | F64: m | G64: 40 | I64: =H64*G64 -> 0
A66: =A62 -> 1. | B66: =B64+1 -> 25 | D66: Dobava i polaganje voda JB-Y(St)Y 1x2x0,8mm | F66: m | G66: 10 | I66: =H66*G66 -> 0
A68: =A64 -> 1. | B68: =B66+1 -> 26 | D68: Dobava i polaganje plastične kabel kanalice 40x25 mm | F68: m | G68: 60 | I68: =G68*H68 -> 0
A70: =A68 -> 1. | B70: =B68+1 -> 27 | D70: Dobava i polaganje plastične kabel kanalice 16x16 mm | F70: m | G70: 300 | I70: =H70*G70 -> 0
A72: =A70 -> 1. | B72: =B70+1 -> 28 | D72: Dobava i polaganje savitljive samogasive instalacijske cijevi do f 20 mm | F72: m | G72: 20 | I72: =H72*G72 -> 0
A74: =A72 -> 1. | B74: =B72+1 -> 29 | D74: Dobava sitnog potrošnog materijala (kabelske stopice, toploskupljajuće nazuvice, ljepljive trake, vijci,…) | F74: kom | G74: 1 | I74: =H74*G74 -> 0
A76: =A74 -> 1. | B76: =B74+1 -> 30 | D76: Spajanje dizalice topline za grijanje i hlađenje (vanjske i unutarnje jedinice) | F76: kom | G76: 6 | I76: =H76*G76 -> 0
A78: =A76 -> 1. | B78: =B76+1 -> 31 | D78: Spajanje el. dijela rekuperatora | F78: kom | G78: 1 | I78: =H78*G78 -> 0
A80: =A78 -> 1. | B80: =B78+1 -> 32 | D80: Spajanje el. dijela plinskog bojlera | F80: kom | G80: 1 | I80: =H80*G80 -> 0
A82: =A80 -> 1. | B82: =B80+1 -> 33 | D82: Spajanje elektro dijela ventilokonvektora | F82: kom | G82: 16 | I82: =H82*G82 -> 0
A84: =A82 -> 1. | B84: =B82+1 -> 34 | D84: Spajanje elektro dijela termostata | F84: kom | G84: 8 | I84: =H84*G84 -> 0
A86: =A84 -> 1. | B86: =B84+1 -> 35 | D86: Dobava, montaža i spajanje u postojeću razdjelnicu GR sljedećih elemenata: - 1 kom automatski prekidač 63A, 3p - 1 kom kombinirana zaštitna sklopka C10A, 0,03A, 2p - paušalno sitni potrošni materijal | F86: kom | G86: 1 | I86: =H86*G86 -> 0
A88: =A86 -> 1. | B88: =B86+1 -> 36 | D88: Dobava, montaža i spajanje u postojeću razdjelnicu Rk sljedećih elemenata: - 1 kom kombinirana zaštitna sklopka C10A, 0,03A, 2p - paušalno sitni potrošni materijal | F88: kom | G88: 1 | I88: =H88*G88 -> 0
A90: =A88 -> 1. | B90: =B88+1 -> 37 | D90: Dobava, montaža i spajanje nadgradne razdjelnice Rs s bravicom i s ugrađenim sljedećim elementima (razdjelnicu dimenzionirati tako da ostane 30% slobodnog prostora): - 1 kom teretna sklopka 80A, 3p - 1 kom automatski prekidač C50A, 3p - 3 kom automatski prekidač 10A - 1 kom automatski prekidač 16A - 1 kom automatski prekidač 20A, 3p - 1 kom zaštitna strujna sklopka 24/0,03A - 3 kom kombinirana zaštitna sklopka C10A, 0,03A, 4p - 3 kom kombinirana zaštitna sklopka C20A, 0,03A, 4p - 1 kom kombinirana zaštitna sklopka C16A, 0,03A, 4p - paušalno sitni potrošni materijal | F90: kom | G90: 1 | I90: =H90*G90 -> 0
A92: =A86 -> 1. | B92: =B86+1 -> 36 | D92: Izvedba prodora za provlačenje kabela između hodnika i pojedinih prostorija, kroz stropove te dovođenje površina u prvobitno stanje | F92: kom | G92: 15 | I92: =H92*G92 -> 0
A94: =A92 -> 1. | B94: =B92+1 -> 37 | D94: Pravljenje žlijeba u zidovima/stropovima cca 4x4 cm za polaganje kabela te dovođenje površine u prvobitno stanje nakon polaganja kabela | F94: m | G94: 10 | I94: =H94*G94 -> 0
A96: =A94 -> 1. | B96: =B94+1 -> 38 | D96: Vizualni pregled instalacije, obavljanje svih zakonom propisanih mjerenja te izdavanje protokola. | F96: kom | G96: 1 | I96: =H96*G96 -> 0
A98: UKUPNO | H98: =SUM(I9:I96) -> 0
A101: 2. | D101: SUSTAV ZAŠTITE OD DJELOVANJA MUNJE
A104: =A101 -> 2. | B104: 1 | D104: Demontaža postojeće hvataljke na ravnom dijelu krova, te odvoz na deponiju | F104: m | G104: 160 | I104: =H104*G104 -> 0
A106: =A104 -> 2. | B106: 2 | D106: Odspajanje hvataljke na kosom dijelu krova (u dijelu koji se dograđuje) te ponovno spajanje na krov | F106: m | G106: 5 | I106: =H106*G106 -> 0
A108: =A106 -> 2. | B108: 3 | D108: Demontaža odvoda od krova do mjernog spoja i odovz na deponiju (na dijelu zida gdje se skida EPS i postavlja kamena vuna) | F108: m | G108: 30 | I108: =H108*G108 -> 0
A110: =A108 -> 2. | B110: 4 | D110: Odspajanje odvoda od mjernog spoja do zemlje u duljini 1,5m te njegovo ponovno spajanje nakon skidanja EPS-a ili rekonstrukcije cokla | F110: kom | G110: 6 | I110: =H110*G110 -> 0
A112: =A110 -> 2. | B112: 5 | D112: Dobava i montaža čelične pocinčane trake Fe/Zn 25x3 mm zajedno s nosačima i izvedba odvoda od mjernog spoja do krova | F112: m | G112: 40 | I112: =H112*G112 -> 0
A114: =A112 -> 2. | B114: 6 | D114: Dobava i montaža hvataljke Al f 8mm na ravan dio krova (dograđeni dio zgrade) | F114: m | G114: 170 | I114: =H114*G114 -> 0
A116: =A114 -> 2. | B116: 7 | D116: Dobava i montaža betonskih pogačica za aluminijsku žicu | F116: kom | G116: 170 | I116: =H116*G116 -> 0
A118: =A114 -> 2. | B118: 7 | D118: Dobava križnog komada žica - traka zajedno s kutijom za mjerni spoje te izvedba mjernog spoja na preklop | F118: kom | G118: 4 | I118: =H118*G118 -> 0
A120: =A118 -> 2. | B120: =B118+1 -> 8 | D120: Produljenje postojeće hvataljke pomoću pocinčane čelične trake Fe/Zn 25x3mm na dijelu krova koji se produžuje | F120: m | G120: 5 | I120: =H120*G120 -> 0
A122: =A120 -> 2. | B122: =B120+1 -> 9 | D122: Dobava i montaža križnog komada žica - žica za spajanje hvataljki na krovu | F122: kom | G122: 15 | I122: =H122*G122 -> 0
A124: =A122 -> 2. | B124: =B122+1 -> 10 | D124: Dobava i montaža križnog komada žica - traka za spajanje hvataljke s odvodom | F124: kom | G124: 15 | I124: =H124*G124 -> 0
A126: =A124 -> 2. | B126: =B124+1 -> 11 | D126: Dobava i montaža križnog komada traka - traka za spajanje produžetka hvataljek na kosom krovu | F126: kom | G126: 2 | I126: =H126*G126 -> 0
A128: =A126 -> 2. | B128: =B126+1 -> 12 | D128: Dobava i montaža štipaljke za povezivanje hvataljke i limenog opšava | F128: kom | G128: 10 | I128: =H128*G128 -> 0
A130: =A128 -> 2. | B130: =B128+1 -> 13 | D130: Dobava i montaža okapnika | F130: kom | G130: 4 | I130: =H130*G130 -> 0
A132: =A130 -> 2. | B132: =B130+1 -> 14 | D132: Dobava i montaža štapne hvataljke duljine 2m, zajedno s betonskim postoljem težine 16 kg te spajanje na hvataljku krova | F132: kom | G132: 2 | I132: =H132*G132 -> 0
A134: =A132 -> 2. | B134: =B132+1 -> 15 | D134: Dobava i montaža obujmice za kišnu cijev | F134: kom | G134: 2 | I134: =H134*G134 -> 0
A136: =A134 -> 2. | B136: =B134+1 -> 16 | D136: Mjerenje otpora uzemljenja, vizualni pregled i otvaranje revizijske knjige | F136: kom | G136: 1 | I136: =H136*G136 -> 0
A138: UKUPNO | H138: =SUM(I103:I136) -> 0
D141: REKAPITULACIJA
A144: =A5 -> 1. | B144: =D5 -> ELEKTROENERGETSKE INSTALACIJE | H144: =H98 -> 0
A146: =A101 -> 2. | B146: =D101 -> SUSTAV ZAŠTITE OD DJELOVANJA MUNJE | H146: =H138 -> 0
A149: SVEUKUPNO | H149: =SUM(H144:I147) -> 0
A151: PDV 25% | H151: =0.25*H149 -> 0
A153: SVEUKUPNO SA PDV-om | H153: =H149+H151 -> 0

Sheet SUNČANA ELEKTRANA
D1: TROŠKOVNIK ELEKTROINSTALACIJA
D3: NAPOMENA
D4: Cijena stavki mora sadržavati i sve pripremne i završne radove kao što su rezanje utora i kanala za cijevi i vodove, otvora za razdjelnice, proboja, obrade kanala i utora te zatvaranje. Ponuđač je obvezan osigurati gradilište od pristupa neovlaštenih osoba zbog mogućih ozljeda te sudionike građenja i opremu tijekom perioda građenja do predaje izvedenih radova korisniku.
A6: 1. | D6: ELEKTROENERGETSKE INSTALACIJE
E7: Jedinica mjere | F7: Količina | G7: Jediničina cijena u eurima bez PDV-a | H7: Ukupna jedinična cijena u eurima bez PDV-a
A8: 1. | B8: 1 | D8: Izvedba obračunskog mjernog mjesta: zamjena postojećeg brojila električne energije 3f s dvosmjernim brojilom 3f, ugradnja četveropolne osigurač-sklopke sa kratkospojnicima u odlazu s brojila. Radove izvodi HEP.
A10: =A8 -> 1. | B10: =B8+1 -> 2 | D10: Dobava, montaža i spajanje fotonaponskog monokristalnog modula Pmpp=410W+/-5%, korisnog djelovanja > 20% , dim. (v x š x d) 1724x1134x30 mm ±10%, s priključnom kutijom, kabelima za povezivanje i priborom za montažu | E10: kom | F10: 65 | H10: =F10*G10 -> 0
A12: =A10 -> 1. | B12: =B10+1 -> 3 | D12: Dobava, montaža i spajanje invertera/pretvarača slijedećih karakteristika: - Izlazna snaga min. 25 kW, 3f - DC napon min. 1000V - MPPT raspon napona 200-1000V +/-10% - Broj MPPT ulaza min: 3/2 - Struja MPPT-a min 26A - Struja kratkog spoja MPPT 32A +/-10% - Učinkovitost (EU) 98,5% +/-5% - Stupanj zaštite min. IP66 komplet sa svim priborom za montažu i povezivanje i s ugrađenom dodatnom opremom za daljinski nadzor i praćenje rada. | E12: kom | F12: 1 | H12: =F12*G12 -> 0
A14: =A12 -> 1. | B14: =B12+1 -> 4 | D14: Dobava i montaža betonskih nosača FN panela za montažu fotonaponskih modula na ravni krov, nagib 5°, težina nosača min 39kg. | E14: kom | F14: 80 | H14: =G14*F14 -> 0
A16: =A14 -> 1. | B16: =B14+1 -> 5 | D16: Dobava i montaža gumenih podloški 0,5x15x12cm za betonske nosače FN panela. (par) | E16: kom | F16: 80 | H16: =G16*F16 -> 0
A18: =A16 -> 1. | B18: =B16+1 -> 6 | D18: Dobava i montaža spojnice dva betonska nosača FN panela. | E18: kom | F18: 2 | H18: =G18*F18 -> 0
A20: =A18 -> 1. | B20: =B18+1 -> 7 | D20: Dobava i montaža spojnice dva betonska nosača FN panela za povezivanje u Istok - Zapad konfiguraciju. | E20: kom | F20: 36 | H20: =G20*F20 -> 0
A22: =A20 -> 1. | B22: =B20+1 -> 8 | D22: Dobava i montaža krajnjih klema za betonske nosače FN panela. (pak. 10 kom.) | E22: kom | F22: 6 | H22: =G22*F22 -> 0
A24: =A22 -> 1. | B24: =B22+1 -> 9 | D24: Dobava i montaža srednjih klema za betonske nosače FN panela. (pak. 10 kom.) | E24: kom | F24: 11 | H24: =G24*F24 -> 0
A26: =A24 -> 1. | B26: =B24+1 -> 10 | D26: Dobava, montaža i spajanje nadgradne razdjelnice RAC opremljene sljedećim elementima: - 1 kom zaštitna strujna sklopka FID 63/0,3, 4p, tip A - 1 kom automatski prekidač C 50A, 3p - 1 kom automatski prekidač B 6A, 1p - 1 kom daljinski okidač, 230V - 1 kom odvodnik prenapoma Tip 1+2, 0,4 kV, 25kA - 1 kom gljivasto tipkalo na vratima ormara za isključenje u nuždi, 230V, 6A - sitni potrošni materijal | E26: kom | F26: 1 | H26: =F26*G26 -> 0
A28: =A26 -> 1. | B28: =B26+1 -> 11 | D28: Dobava, montaža i spajanje nadgradne razdjelnice RDC opremljene sljedećim elementima: - 4 kom rastavna osigurač-sklopka 10x38, 2p - 8 kom osigurač gPV karakteristike 10x38, 16A - 4 kom PV odvodnik prenapona Tip1+2, 1000V, 12,5kA | E28: kom | F28: 1 | H28: =F28*G28 -> 0
A30: =A28 -> 1. | B30: =B28+1 -> 12 | D30: Dobava i montaža ručnog isključnog tipkala, IP 54 | E30: kom | F30: 1 | H30: =F30*G30 -> 0
A32: =A30 -> 1. | B32: =B30+1 -> 13 | D32: Dobava i polaganje kabela FG16OR16 5x10 mm2 | E32: m | F32: 20 | H32: =F32*G32 -> 0
A34: =A32 -> 1. | B34: =B32+1 -> 14 | D34: Dobava i polaganje kabela NYM-J 3x1,5 mm2 | E34: m | F34: 10 | H34: =F34*G34 -> 0
A36: =A34 -> 1. | B36: =B34+1 -> 15 | D36: Dobava i montaža čeličnog pocinčanog kabel kanala s poklopcem 60x100 mm, PKU100 (montaža do panela na krovu objekta) | E36: m | F36: 25 | H36: =F36*G36 -> 0
A38: =A36 -> 1. | B38: =B36+1 -> 16 | D38: Dobava i montaža betonskih kocki za polaganje metalnog kabel kanala po ravnom krovu | E38: kom | F38: 20 | H38: =G38*F38 -> 0
A40: =A38 -> 1. | B40: =B38+1 -> 17 | D40: Dobava i montaža XPS Termoizolacijske ploče za dodatnu zaštitu hidroizolacije krova ispod nosača kabel kanala i betonskih nosača FN panela (xps izrezati na veličinu podnožja betonskog nosača) | E40: m2 | F40: 10 | H40: =G40*F40 -> 0
A42: =A40 -> 1. | B42: =B40+1 -> 18 | D42: Dobava i montaža UV otporne kaoflex cijevi do ɸ40 | E42: m | F42: 40 | H42: =F42*G42 -> 0
A44: =A42 -> 1. | B44: =B42+1 -> 19 | D44: Dobava i montaža plastične kabel kanalice 40x40 mm (unutar objekta) | E44: m | F44: 25 | H44: =F44*G44 -> 0
A46: =A44 -> 1. | B46: =B44+1 -> 20 | D46: Izvedba prodora za provlačenje kabela između pojedinih prostorija i kroz stropove te dovođenje površina u prvobitno stanje | E46: kom | F46: 5 | H46: =G46*F46 -> 0
A48: =A46 -> 1. | B48: =B46+1 -> 21 | D48: Dobava i polaganje PV kabela, pokositrenog, finožičnog, dvostruko izoliranog 1x6 mm2 | E48: m | F48: 200 | H48: =G48*F48 -> 0
A50: =A48 -> 1. | B50: =B48+1 -> 22 | D50: Dobava i ugradnja MC4 konektora, set (M+Ž) | E50: kom | F50: 14 | H50: =G50*F50 -> 0
A52: =A50 -> 1. | B52: =B50+1 -> 23 | D52: Spajanje na postojeću sabirnicu izjednačenja potencijala i izvedba uzemljenja opreme sunčane elektrane vodom H07VV-K 10 mm2. (RAC, RDC, Izmjenjivač) | E52: kom | F52: 1 | H52: =G52*F52 -> 0
A54: =A52 -> 1. | B54: =B52+1 -> 24 | D54: Dobava voda H07VV-K 16 mm2 i izvedba izjednačenja potencijala između potkonstrukcije FN panela i LPS-a (gromobrana). | E54: m | F54: 25 | H54: =G54*F54 -> 0
A56: =A54 -> 1. | B56: =B54+1 -> 25 | D56: Dobava voda H07VV-K 6 mm2 i izvedba izjednačenja potencijala između potkonstrukcije i ostalih metalnih masa na krovu | E56: m | F56: 10 | H56: =G56*F56 -> 0
A58: =A56 -> 1. | B58: =B56+1 -> 26 | D58: Izmicanje dijela postojećeg LPS-a (gromobrana) za polaganje nosača solarnih panela. | E58: m | F58: 10 | H58: =G58*F58 -> 0
A60: =A58 -> 1. | B60: =B58+1 -> 27 | D60: Ispitivanje instalacije elektrane korisnika AC i DC strana prije puštanja u rad | E60: komplet | F60: 1 | H60: =G60*F60 -> 0
A62: =A60 -> 1. | B62: =B60+1 -> 28 | D62: Izrada Plana i programa ispitivanja (PPI) i usaglašavanje s nadležnim HEP ODS-om. | E62: komplet | F62: 1 | H62: =G62*F62 -> 0
A64: =A62 -> 1. | B64: =B62+1 -> 29 | D64: Završno ispitivanje elektrane u pokusnom radu | E64: komplet | F64: 1 | H64: =G64*F64 -> 0
A66: =A64 -> 1. | B66: =B64+1 -> 30 | D66: Izrada završnog izvješća izvođača radova, izjava o izvedenim radovima i popratna dokumentacija | E66: kpl. | F66: 1 | H66: =G66*F66 -> 0
A68: UKUPNO | H68: =SUM(H8:H67) -> 0
A70: PDV 0% | H70: 0
A72: SVEUKUPNO | H72: =H68+H70 -> 0

Sheet rekapitulacija
A1: =GO!A1:F1 -> Investitor: JAVNA USTANOVA U KULTURI HRVATSKI DOM VUKOVAR, Vukovar, J. J. Strossmayera 20, OIB: 04839169507 Opis zahvata: ENERGETSKA OBNOVA RODNE KUĆE LAVOSLAVA RUŽIČKE Mjesto gradnje: Vukovar, J. J. Strossmayera 25, k.č. 1745, k.o. Vukovar Siječanj 2024., zajednički broj projekta: 30/2023
B2: REKAPITULACIJA | C2: =GO!F2 -> UKUPNA JEDINIČNA CIJENA U EURIMA BEZ PDV-A
A4: ='[1]GRAĐEVINSKI RADOVI'!A9 -> A/ | B4: GRAĐEVINSKO-OBRTNIČKI RADOVI | C4: =GO!F387 -> 0
A6: ='[1]OBRTNIČKI RADOVI'!A4 -> B/ | B6: STROJARSKI RADOVI | C6: =STROJ!F13 -> 0
A8: ='[1]UREĐENJE OKOLIŠA'!A4 -> C/ | B8: ELEKTROTEHNIČKI RADOVI | C8: =ELEKTROINSTALACIJE!H149 -> 0
A10: D/ | B10: FOTONAPONSKA ELEKTRANA | C10: ='SUNČANA ELEKTRANA'!H68 -> 0
B12: SVEUKUPNO | C12: =SUM(C3:C11) -> 0
B14: PDV 25% (OSIM STAVKE D) | C14: =0.25*(C4+C6+C8) -> 0
B16: SVEUKUPNO S PDV-om | C16: =C12+C14 -> 0
