Workbook
Name _1Excel_BuiltIn_Print_Area_1_1: STROJ!$A$1:$F$184
Name _1Excel_BuiltIn_Print_Area_1_1: #REF!
Name ADRESA: #REF!
Name ATR: #REF!
Name AUTOR: #REF!
Name autora: #REF!
Name brisi: #REF!
Name BROJ_CLANOVA: #REF!
Name BRP: #REF!
Name cijene: #REF!
Name DATOTEKA: #REF!
Name datum: #REF!
Name DATUM_DANAS: #REF!
Name DIR_KONZA: #REF!
Name DIREKTOR: #REF!
Name fdsfdsfs: #REF!
Name fsd: #REF!
Name fsdfs: #REF!
Name IME_DAT: #REF!
Name INVESTITOR: #REF!
Name jkljkljl: #REF!
Name JMBG: #REF!
Name KAT_OSTEC: #REF!
Name KONSTRUKTOR: #REF!
Name KONZALTING: #REF!
Name KOR_DATUM: #REF!
Name KOR_IME: #REF!
Name KOR_IME_OCA: #REF!
Name KOR_POVR: #REF!
Name KOR_PREZIME: #REF!
Name MJESEC: #REF!
Name MJESTO: #REF!
Name NASELJE: #REF!
Name OBJEKT: #REF!
Name odustani: #REF!
Name OPCINA: #REF!
Name PODRUCJE: #REF!
Name POVR_OBNOVE: #REF!
Name PROJEKTANT1: #REF!
Name PROJEKTANT2: #REF!
Name sdfsf: #REF!
Name sdfsfsf: #REF!
Name SIFRA_UPUTE: #REF!
Name VOD_PROJE: #REF!
Name xyz: #REF!
Name ZUPANIJA: #REF!

Sheet GO
A1: Investitor: JAVNA USTANOVA U KULTURI HRVATSKI DOM VUKOVAR, Vukovar, J. J. Strossmayera 20, OIB: 04839169507 Opis zahvata: ENERGETSKA OBNOVA RODNE KUĆE LAVOSLAVA RUŽIČKE Mjesto gradnje: Vukovar, J. J. Strossmayera 25, k.č. 1745, k.o. Vukovar Siječanj 2024., zajednički broj projekta: 30/2023
C2: JEDINICA MJERE | D2: KOLIČINA | E2: JEDINIČNA CIJENA U EURIMA BEZ PDV-A | F2: UKUPNA JEDINIČNA CIJENA U EURIMA BEZ PDV-A
B4: TROŠKOVNIK GRAĐEVINSKO - OBRTNIČKIH RADOVA
B6: GRAĐEVINSKI RADOVI
A8: 1. | B8: PRIPREMNI RADOVI, DEMONTAŽE I RUŠENJA
A11: 1. | B11: Izvedba pripremnih radova prije rušenja i sanacije (kontrola tehničkih rješenja predviđenih projektom, plan rušenja, kontrola i određivanje točnih geodetskih visina, provjera mjera i dimenzija postojeće konstrukcije, kontrola položaja priključka, izrada elaborata privremene regulacije prometa, izrada gradilišne ploče, ograđivanje gradilišta i sl.), drugi pripremni radovi koje je potrebno izvesti kako bi se mogao izraditi dinamički plan i osigurati uvjeti za siguran rad.
C12: komplet | D12: 1 | F12: =D12*E12 -> 0
A14: 2. | B14: Dobava, montaža i demontaža cijevne fasadne skele visine do 10 m1 sa svim potrebnim ukrućenjima i sidrenjima. Vertikale se postavljaju na svakih 1,80 m po propisima tehničke zaštite na radu. Bazna radna ploha se izvodi od mosnica. Radna skela se postavlja po cijelom opsegu građevine u širini 80 cm. U cijenu je uključena i postava na vanjski dio skele jutenih ili plastificiranih traka kao zaštite od sunca. Cijelu skelu izraditi prema odredbama propisa zaštite na radu. Prije izvedbe izvođač je dužan izraditi projekt skele sa predviđenim svim mjerama sigurnosti kod postave radnih podova, učvršćenja te osiguranja uvjeta za siguran rad i zaštitu radnika i prolaznika. Obračun stavke po m2 ortogonalne projekcije skele. | G14: ne znam zašto je ovo crveno, projekt skele se radi
C15: m2 | D15: 1140 | F15: =D15*E15 -> 0
A17: 3. | B17: Dobava, montaža i demontaža tunelske skele/prolaza za pješake, izrađenog od bešavnih cijevi i potrebnih spojnih elemenata, sa svim potrebnim ukrućenjima i sidrenjima. Pokrov tunela izraditi od mosnica položenih jedne do druge, a preko njih postaviti bitumensku ljepenku s preklopom minimalno 10 cm ili alternativno PVC foliju. Prije izvedbe skele izvođač je dužan izraditi projekt skele što je u cijeni stavke. Obračun se vrši po m2 vertikalne projekcije površine skele. U cijenu uračunati i naknadu za zauzimanje javnih površine.
C18: m2 | D18: 77 | F18: =D18*E18 -> 0
A20: 4. | B20: Demontaža i ponovna montaža nosača zastava, imena ulice, i sl. sa privremenim deponiranjem na sigurno mjesto.
A21: a / | B21: demontaža | C21: komplet | D21: 1 | F21: =D21*E21 -> 0
A22: b / | B22: montaža | C22: komplet | D22: 1 | F22: =D22*E22 -> 0
A24: 5. | B24: Demontaža postojeće limarije. Dio limarije se demontira i odlaže na gradilišnu deponiju radi ponovne ugradnje, dok se dio odvozi na za to predviđenu deponiju. Troškove odvoza i sve takse obuhvatiti jediničnom cijenom, jer se nikakvi troškovi odvoza neće posebno obračunavati.
B25: Obračun po m1.
A26: a / | B26: horizontalni ležeći oluk | C26: m1 | D26: 1 | F26: =D26*E26 -> 0
A27: b / | B27: vertikalni oluk | C27: m1 | D27: 47 | F27: =D27*E27 -> 0
A28: c / | B28: točkasti snjegobrani | C28: kom | D28: 15 | F28: =D28*E28 -> 0
A29: d / | B29: opšav zabata ("veter lajsna") (odvoz) | C29: m1 | D29: 12 | F29: =D29*E29 -> 0
A30: e / | B30: limena klupčica (odvoz) | C30: m1 | D30: 12 | F30: =D30*E30 -> 0
A31: f / | B31: opšav vijenca (odvoz) | C31: m1 | D31: 1 | F31: =D31*E31 -> 0
A32: g / | B32: opšav atike ravnog krova (odvoz) | C32: m1 | D32: 150 | F32: =D32*E32 -> 0
A34: 6. | B34: Skidanje i odvoz postojeće ETICS fasade od ekspandiranog polistirena d=5 cm. U cijenu uključen rad i odvoz na za to predviđenu deponiju, uključujući i čišćenje zida od ljepila nakon skidanja fasade. Obračun po m2.
C35: m2 | D35: 500 | F35: =D35*E35 -> 0
A37: 7. | B37: Skidanje postojećeg pokrova od biber crijepa sa odlaganjem na gradilišnu deponiju radi ponovne montaže. Crijep razgraditi u širini trake od 1 m po dužini zabatnog zida. Ovom stavkom obuhvaćena i demontaža sljemenjaka. Troškove odvoza i sve takse obuhvatiti jediničnom cijenom, jer se nikakvi troškovi odvoza neće posebno obračunavati.
B38: Obračun po m2 i m1 stvarne kose površine.
A39: a / | B39: biber crijep | C39: m2 | D39: 12 | F39: =D39*E39 -> 0
A40: b / | B40: sljeme | C40: m1 | D40: 1 | F40: =D40*E40 -> 0
A42: 8. | B42: Demontaža drvenih letvi postojećeg pokrova od biber crijepa sa odvozom na za to predviđenu deponiju. Letve razgraditi u širini trake od 1 m po dužini zabatnog zida, odnosno do kontraletve. Troškove odvoza i sve takse obuhvatiti jediničnom cijenom, jer se nikakvi troškovi odvoza neće posebno obračunavati.
B43: Obračun po m2 stvarne kose površine.
C44: m2 | D44: 12 | F44: =D44*E44 -> 0
A46: 9. | B46: Uklanjanje svih slojeva neprohodnog ravnog krova (hidroizolacija, xps, parna brana) ukupne debljine 14-15 cm. Materijale razdvajati, te deponirati na za to predviđenu deponiju. Slojevi se skidaju do betona za pad. U cijenu uračunati sav rad, prijenos i odvoz otpada na za to predviđenu deponiju.
B47: Obračun po m2.
C48: m2 | D48: 470 | F48: =D48*E48 -> 0
A50: 10. | B50: Završno čišćenje nakon završetka svih radova. U stavci obuhvaćeno pranje podova, odvoz šute,...
C51: komplet | D51: 1 | F51: =D51*E51 -> 0
A53: 11. | B53: Čišćenje okoliša nakon dovršetka radova. U cijenu uključiti kompletne troškove čišćenja sagrađenih površina u svim fazama rada tokom građenja,otklanjanje s gradilišta i odvoz na gradilišnu deponiju šuta, otpada i sl. Kao i uklanjanje svih pripremnih objekata i konstrukcija tako da se objekat čist i spreman preda investitoru.
C54: komplet | D54: 1 | F54: =D54*E54 -> 0
A56: =A8 -> 1. | B56: UKUPNO | F56: =SUM(F11:F55) -> 0
...

Sheet STROJ
B3: REKAPITULACIJA-STROJARSKI RADOVI
B5: 1. PLINSKA INSTALACIJA | F5: =F44 -> 0
B7: 2. GRIJANJE I HLAĐENJE | F7: =F214 -> 0
B9: 3. VENTILACIJA | F9: =F251 -> 0
B11: 4. DEMONTAŽE I OSTALI RADOVI | F11: =F266 -> 0
B13: UKUPNO: | F13: =SUM(F3:F12) -> 0
B14: PDV 25%: | F14: =F13*0.25 -> 0
B15: SVEUKUPNO: | F15: =F13+F14 -> 0
A19: Br. | B19: Opis stavke | C19: Jedinica mjere | D19: Količina | E19: Jediničina cijena u eurima bez PDV-a | F19: Ukupna jedinična cijena u eurima bez PDV-a
B21: Napomena: u sve stavke uključiti troškove transporta, pripremno-završne radove montažni i potrošni materijal, do potpune pogonske gotovosti.
B24: 1. PLINSKA INSTALACIJA
A26: 1. | B26: Zatvaranje dovoda plina na ventilima kod plinomjera, pražnjene plinske isntalacije i priprema za izvođenje radova. | C26: komplet | D26: 1 | F26: =SUM(E26*D26) -> 0
A28: 2. | B28: Dobava i ugradnja bakrenih cijevi za razvod zemnog plina, spajanje tvrdim lemljenjem komplet sa T komadima, redukcijama, lukovima, MS prijelazima, proturnim cijevima, obujmicama, ovjesnim priborom i montažnim materijalom. U cijenu uključiti izradu prodora kroz zidove i stropove i zidarsku obradu otvora mortom.
B29: Ø28 mm | C29: m | D29: 6 | F29: =SUM(E29*D29) -> 0
A31: 3. | B31: Dobava i ugradnja kuglastog plinskog navojnog ventila sa termičkom zaštitom i montažnim materijalom:
B32: NO 20 | C32: kom | D32: 1 | F32: =SUM(E32*D32) -> 0
A34: 4. | B34: Tlačna proba plinske instalacije na čvrstoću i nepropusnost:
B35: Razvod plina tlaka 22 mbar: Ispitivanje na čvrstoću provodi se zrakom ili inertnim plinom tlaka 1 bar, nakon izjednačenja temperatura cjevovoda i okoline ispitni tlak ne smije opadati u trajanju 10 minuta. Ispitivanje na nepropusnost provodi se zrakom ili inertnim plinom tlaka 110 mbar. Nakon izjednačenja temperatura cjevovoda i zraka ispitni tlak ne smije opadati u trajanju 10 minuta. | C35: komplet | D35: 1 | F35: =SUM(E35*D35) -> 0
A37: 5. | B37: Ispitivanje plinske instalacije od strane ovlaštene pravne osobe.
B38: Razvod plina tlaka 22 mbar | C38: komplet | D38: 1 | F38: =SUM(E38*D38) -> 0
A40: 6. | B40: Izrada projekta izvedenog stanja plinske instalacije od strane ovlaštenog projektanta. | C40: komplet | D40: 1 | F40: =SUM(E40*D40) -> 0
A42: 7. | B42: Prijava i tehnički pregled plinske instalacije i plinskog uređaja od strane distributera plina. | C42: komplet | D42: 1 | F42: =SUM(E42*D42) -> 0
B44: UKUPNO: | F44: =SUM(F30:F42) -> 0
B45: 2. GRIJANJE I HLAĐENJE
A47: 1. | B47: Dobava i ugradnja zidnog plinskog kondenzacijskog uređaja za pogon nevisan o zraku iz prostora sa modulacijskim cilindričnim plamenikom za zemni plin, normni stupanj iskorištenja do 98%(Hs), 109%(Hi), normni učin grijanja Q=10,9-44,5 kW (tv=80/60°C), komplet sa regulatorom za pogon ovisno o vanjskoj temperaturi, vanjskim osjetnikom temperature, osjetnikom temperature spremnika PTV, osjetnikom temperature hidrauličke skretnice, proširenjem za crpke, priključnim setom sa crpkom kruga grijanja i crpkom spremnika PTV, utikačima, sifonom za kondenzat, priključkom na plinsku instalaciju i električnu instalaciju, montažnim materijalom i puštanjem u rad od strane ovlaštenog servisa. NAZIV PROZVOĐAČA: _____________________ MARKA ILI MODEL PROIZVODA: __________________ | C47: komplet | D47: 1 | F47: =SUM(E47*D47) -> 0
A49: 2. | B49: Dobava i ugradnja tipskog sustava za dovod zraka i odvod dimnih plinova od PPs-a za kondenzacijski uređaj, komplet sa montažnim materijalom, izvedba kroz krov Ø 80/125 koji se sastoji od:
B50: AZ klizni kolčak | C50: kom | D50: 1 | F50: =D50*E50 -> 0
B51: AZ cijevi, 1 m | C51: kom | D51: 4 | F51: =D51*E51 -> 0
B52: AZ revizijski dio-ravni | C52: kom | D52: 1 | F52: =D52*E52 -> 0
B53: Obujmica | C53: kom | D53: 2 | F53: =D53*E53 -> 0
B54: AZ krovno provođenje crno | C54: kom | D54: 1 | F54: =D54*E54 -> 0
B55: obruč ravnog krova | C55: kom | D55: 1 | F55: =D55*E55 -> 0
A57: 3. | B57: Dobava i ugradnja hidrauličke skretnice, protok do 4,5 m³/h priključci NO 40 komplet sa komplet sa tipskom izolacijom, zidnom konzolom i montažnim materijalom. | C57: kom | D57: 1 | F57: =SUM(E57*D57) -> 0
A59: 4. | B59: Dobava i ugradnja modulacijske dizalice topline zrak-voda za grijanje i hlađenje, split izvedbe sa vanjskom i unutarnjom jedinicom i automatskom regulacijom u unutarnjoj jedinici. NAZIV PROIZVOĐAČA: _________________ MARKA ILI MODEL PROIZVODA: _______________
B60: Vanjska jedinica: Tehnologija DC invertera za kontinuiranu regulaciju učina u svrhu optimalnog pogona u svim pogonskim uvjetima. Niska razina buke i vibracija, elektronički ekspanzijski ventil za povećanje sezonske učinkovitosti i aksijalni ventilator upravljanim brojem okretaja. Energetski učinkovito otapanje preko obrnute cirkulacije.
B61: Unutarnja jedinica: Pločasti izmjenjivač topline od plemenitog čelika za predaju topline sustavu grijanja, ugrađena visokoučinkovita cirkulacijska crpka za krug grijanja, 3-putni preklopni ventil i integrirani protočni grijačem, nadzornik tlaka i sigurnosna grupa. Unutarnja jedinica montira se na zid. Digitalna regulacija toplinske crpke vođena vremenskim prilikama ugrađena u unutarnju jedinicu, za pogon s klizno vođenom temperaturom toplinske crpke. Za instalacije s jednim krugom grijanja bez mješača i/ili – u spoju s proširenom opremom (pribor) – dva kruga grijanja s mješačem i regulacijom temperature u spremniku PTV-a.S osjetnikom vanjske temperature i osjetnicima temperature polaznog i povratnog voda sekundarnog kruga
B62: Dozvoljeno odstupanje od navedenih teh. osobina + 10%-0%
B63: Podaci o učinu grijanja prema EN 14511 pri A2/W35 "ili jednakovrijedno"________________, • Nazivni toplinski učin 7 kW • Primljena elektr. snaga 1,8 kW • Učinski koeficijent (COP) 3,9
B64: Podaci o učinu grijanja prema EN 14511 pri A7/W35 "ili jednakovrijedno"________________, • Nazivni toplinski učin 10,1 kW • Primljena elektr. snaga 2,0 kW • Učinski koeficijent (COP) 5,0
B65: Podaci o učinu grijanja prema EN 14511 A -7/W35 "ili jednakovrijedno"________________, • Nazivni toplinski učin 11,6 kW • Primljena elektr. snaga 3,9 kW • Učinski koeficijent (COP) 3,0
...

Sheet ELEKTROINSTALACIJE
D2: TROŠKOVNIK ELEKTROINSTALACIJA
A5: 1. | D5: ELEKTROENERGETSKE INSTALACIJE
F7: Jedinica mjere | G7: količina | H7: Jedinična cijena u eurima bez PDV-a | I7: Ukupna jedinična cijena u eurima bez PDV-a
A9: =A5 -> 1. | B9: 1 | D9: Demontaža svih postojećih rasvjetnih tijela i tračnica za rasvjetu u prostorima u kojima će montirati nova rasvjeta | F9: kom | G9: 1 | I9: =H9*G9 -> 0
A11: =A9 -> 1. | B11: =B9+1 -> 2 | D11: Dobava i montaža led reflektora s direktnom simetričnom svjetlosnom distribucijom. Kut snopa svjetlosti 46°. Kućište svjetiljke izrađeno od tlačno lijevanog aluminija završno bojanog u crnu boju. Mogućnost vertikalnog zakretanja od 0° do 90° i horiznotalnog 360°. Dimenzije svjetiljke fi74x177x131mm. LED sustav maksimalne snage 23W. Masa svjetiljke 0.57kg. Klasa zaštite III. Radni napon 48V DC. Mogućnost regulacije putem DALI protokola. Životni vijek LED izvora minimalno 50.000 sati L90B10. Minimalni izlazni svjetlosni tok svjetiljke 2076lm. Minimalna efikasnost izvora svjetlosti 115lm/W. Minimalna efikasnost svjetiljke 90lm/W. Temperatura boje 3000K. Uzvrat boja minimalno CRI90. Konzistentnost temperature boje SDCM maksimalno 1.5 step. Minimalni raspon temperaturnog područja rada od 0°C do +25°C. Stupanj mehaničke zaštite minimalno IP20. CE certificirana svjetiljka "ili jednakovrijedno"_______________ Sa svim potrebnim priborom, priključnim materijalom i elementima. Oznaka u projektu "S1". NAZIV PROIZVOĐAČA: ________________ MODEL ILI TIP PROIZVODA: _______________
D12: Kriteriji za ocjenu jednakovrijednosti: - Tračni reflektor s direktnom simetričnom svjetlosnom distribucijom. - Kut snopa svjetlosti 46°. - Kućište svjetiljke izrađeno od tlačno lijevanog aluminija završno bojanog u crnu boju. - Mogućnost vertikalnog zakretanja od 0° do 90° i horiznotalnog 360°. - Dimenzije svjetiljke fi74x177x131mm. - LED sustav maksimalne snage 23W. - Masa svjetiljke 0.57kg. - Klasa zaštite III. - Radni napon 48V DC. - Mogućnost regulacije putem DALI protokola. - Životni vijek LED izvora minimalno 50.000 sati L90B10. - Minimalni izlazni svjetlosni tok svjetiljke 2076lm. - Minimalna efikasnost svjetiljke 90lm/W. - Temperatura boje 3000K. - Uzvrat boja minimalno CRI90. - Konzistentnost temperature boje SDCM maksimalno 1.5 step. - Minimalni raspon temperaturnog područja rada od 0°C do +25°C. - Stupanj mehaničke zaštite minimalno IP20. - CE certificirana svjetiljka ili jednakovrijedno ____________________________________ | F12: kom | G12: 26 | I12: =H12*G12 -> 0
A14: =A11 -> 1. | B14: =B11+1 -> 3 | D14: Dobava i montaža tračne svjetiljke s direktnom simetričnom svjetlosnom distribucijom. Kućište svjetiljke izrađeno od ekstrudiranog aluminija završno bojanog u crnu boju. Opalni difuzor izrađen od polikarbonata. Dimenzije svjetiljke L=1132x27x29mm. Masa svjetiljke 0.78kg. Klasa zaštite III. Radni napon 48V DC. Mogućnost regulacije putem DALI protokola. LED sustav maksimalne snage 26W. Životni vijek LED izvora minimalno 50.000 sati L89B10. Minimalni izlazni svjetlosni tok svjetiljke 1868lm. Minimalna efikasnost svjetiljke 72lm/W. Temperatura boje 3000K. Uzvrat boja minimalno CRI90. Konzistentnost temperature boje SDCM maksimalno 2 step. Minimalni raspon temperaturnog područja rada od 0°C do +25°C. Stupanj mehaničke zaštite minimalno IP20. CE certificirana svjetiljka "ili jednakovrijedno"___________________ Sa svim potrebnim priborom, priključnim materijalom i elementima. Oznaka u projektu "S2". NAZIV PROIZVOĐAČA: ________________ MODEL ILI TIP PROIZVODA: _______________
D15: Kriteriji za ocjenu jednakovrijednosti: - Tračna svjetiljka s direktnom simetričnom svjetlosnom distribucijom. - Kućište svjetiljke izrađeno od ekstrudiranog aluminija završno bojanog u crnu boju. - Opalni difuzor izrađen od polikarbonata. - Dimenzije svjetiljke L=1132x27x29mm. - Masa svjetiljke 0.78kg. - Klasa zaštite III. - Radni napon 48V DC. - Mogućnost regulacije putem DALI protokola. - LED sustav maksimalne snage 26W. - Životni vijek LED izvora minimalno 50.000 sati L89B10. - Minimalni izlazni svjetlosni tok svjetiljke 1868lm. - Minimalna efikasnost svjetiljke 72lm/W. - Temperatura boje 3000K. - Uzvrat boja minimalno CRI90. - Konzistentnost temperature boje SDCM maksimalno 2 step. - Minimalni raspon temperaturnog područja rada od 0°C do +25°C. - Stupanj mehaničke zaštite minimalno IP20. - CE certificirana svjetiljka ili jednakovrijedno ____________________________________ | F15: kom | G15: 10 | I15: =H15*G15 -> 0
A17: =A14 -> 1. | B17: =B14+1 -> 4 | D17: Dobava i montaža nadgradne svjetiljke s direktnom svjetlosnom distribucijom. Kućište svjetiljke izrađeno od aluminija završno bojanog u bijelu boju RAL9016. Mikroprizmatični difuzor izrađen od PMMA za spriječavanje omnidirekcionalnog blještanja, CAT 2 (L<3000cd/m^2). Faktor blještanja UGR<19. Dimenzija svjetiljke 3004x53x53mm. Masa svjetiljke 5.5kg. Klasa zaštite I. Radni napon 220-240V AC. LED sustav maksimalne snage 58.2W. Mogućnost regulacije intenziteta svjetlosti putem DALI protokola. Životni vijek LED izvora minimalno 70.000 sati L80B50. Minimalni izlazni svjetlosni tok svjetiljke 8200lm. Minimalna efikasnost svjetiljke 141lm/W. Temperatura boje 4000K. Uzvrat boja minimalno CRI80. Minimalni raspon temperaturnog područja rada od 0°C do +35°C. Konzistentnost temperature boje MacAdam maksimalno 3 step. Stupanj mehaničke zaštite minimalno IP20. Svjetiljka izrađena prema HR EN 50419 standardu "ili jednakovrijedno"_______________. CE certificirana svjetiljka "ili jednakovrijedno"______________________ Sa svim potrebnim priborom, priključnim materijalom i elementima. Oznaka u projektu "S3". NAZIV PROIZVOĐAČA: ________________ MODEL ILI TIP PROIZVODA: _______________
D18: Kriteriji za ocjenu jednakovrijednosti: Nadgradna svjetiljka s direktnom svjetlosnom distribucijom. - Kućište svjetiljke izrađeno od aluminija završno bojanog u bijelu boju RAL9016 ili jednakovrijedno ________________________ - Mikroprizmatični difuzor izrađen od PMMA za spriječavanje omnidirekcionalnog CAT 2 (L<3000cd/m^2). - Faktor blještanja UGR<19. - Dimenzija svjetiljke 3004x53x53mm. - Masa svjetiljke 5.5kg. - Klasa zaštite I. - Radni napon 220-240V AC. - LED sustav maksimalne snage 58.2W. - Mogućnost regulacije intenziteta svjetlosti putem DALI protokola. - Životni vijek LED izvora minimalno 70.000 sati L80B50. - Minimalni izlazni svjetlosni tok svjetiljke 8200lm. - Minimalna efikasnost svjetiljke 141lm/W. - Temperatura boje 4000K. - Uzvrat boja minimalno CRI80. - Minimalni raspon temperaturnog područja rada od 0°C do +35°C. - Konzistentnost temperature boje MacAdam maksimalno 3 step. - Stupanj mehaničke zaštite minimalno IP20. - Svjetiljka izrađena prema HR EN 50419 standardu ili jednakovrijedno _______________________________ - CE certificirana svjetiljka ili jednakovrijedno ________________________________ | F18: kom | G18: 7 | I18: =H18*G18 -> 0
A20: =A17 -> 1. | B20: =B17+1 -> 5 | D20: Dobava i montaža okrugle ugradne svjetiljke s direktnom svjetlosnom distribucijom. Kućište svjetiljke izrađeno od tlačno lijevanog aluminija završno bojanog u bijelu boju RAL9016. Faktor blještanja UGR<19. Dimenzije svjetiljke fi213x66mm. Masa svjetiljke 1.0kg. Radni napon 220-240V AC. Klasa zaštite II. LED sustav maksimalne snage 18W. Životni vijek LED izvora minimalno 50.000 sati L80B50. Minimalni izlazni svjetlosni tok 2280lm. Minimalna efikasnost svjetiljke 129lm/W. Temperatura boje 4000K. Uzvrat boja minimalno CRI80. Konzistentnost temperature boje MacAdam maksimalno 3 step. Stupanj mehaničke zaštite minimalno IP20/IP54 IK02. CE certificirana svjetiljka "ili jednakovrijedno"_________________ Sa svim potrebnim priborom, priključnim materijalom i elementima. Oznaka u projektu "S4". NAZIV PROIZVOĐAČA: __________________ MARKA ILI MODEL PROIZVODA: ________________
D21: Kriteriji za ocjenu jednakovrijednosti: - Okrugla ugradna svjetiljka s direktnom svjetlosnom distribucijom - Kućište svjetiljke izrađeno od tlačno lijevanog aluminija završno bojanog u bijelu boju RAL9016 ili jednakovrijedno ____________________________________ - Dimenzije svjetiljke fi213x66mm - Masa svjetiljke 1.0kg - Radni napon 220-240V AC - Klasa zaštite II - LED sustav maksimalne snage 18W - Životni vijek LED izvora minimalno 50.000 sati L80B50 - Minimalni izlazni svjetlosni tok 2280lm - Minimalna efikasnost svjetiljke 129lm/W - Temperatura boje 4000K - Uzvrat boja minimalno CRI80 - Konzistentnost temperature boje MacAdam maksimalno 3 step - Stupanj mehaničke zaštite minimalno IP20/IP54 IK02 - CE certificirana svjetiljka ili jednakovrijedno ____________________________________ | F21: kom | G21: 19 | I21: =H21*G21 -> 0
A23: =A20 -> 1. | B23: =B20+1 -> 6 | D23: Dobava okrugle ugradne svjetiljke s direktnom svjetlosnom distribucijom. Kućište svjetiljke izrađeno od tlačno lijevanog aluminija završno bojanog u bijelu boju RAL9016. Faktor blještanja UGR<19. Dimenzije svjetiljke fi213x66mm. Masa svjetiljke 1.0kg. Radni napon 220-240V AC. Mogućnost regulacije putem DALI protokola. Klasa zaštite II. LED sustav maksimalne snage 31W. Životni vijek LED izvora minimalno 50.000 sati L80B50. Minimalni izlazni svjetlosni tok 3560lm. Minimalna efikasnost svjetiljke 115lm/W. Temperatura boje 4000K. Uzvrat boja minimalno CRI80. Konzistentnost temperature boje MacAdam maksimalno 3 step. Stupanj mehaničke zaštite minimalno IP20/IP54 IK02. CE certificirana svjetiljka "ili jednakoverijedno"________________ Sa svim potrebnim priborom, priključnim materijalom i elementima. Oznaka u projektu "S5". NAZIV PROIZVOĐAČA: ________________ MODEL ILI TIP PROIZVODA: _______________
D24: Kriteriji za ocjenu jednakovrijednosti: - Okrugla ugradna svjetiljka s direktnom svjetlosnom distribucijom - Kućište svjetiljke izrađeno od tlačno lijevanog aluminija završno bojanog u bijelu boju RAL9016 ili jednakovrijedno ____________________________________ - Dimenzije svjetiljke fi213x66mm - Masa svjetiljke 1.0kg - Radni napon 220-240V AC - Klasa zaštite II - Mogućnost regulacije putem DALI protokola - LED sustav maksimalne snage 31W - Životni vijek LED izvora minimalno 50.000 sati L80B50 - Minimalni izlazni svjetlosni tok 3560lm - Minimalna efikasnost svjetiljke 115lm/W - Temperatura boje 4000K - Uzvrat boja minimalno CRI80 - Konzistentnost temperature boje MacAdam maksimalno 3 step - Stupanj mehaničke zaštite minimalno IP20/IP54 IK02 - CE certificirana svjetiljka ili jednakovrijedno ___________________________________ | F24: kom | G24: 16 | I24: =H24*G24 -> 0
A26: =A23 -> 1. | B26: =B23+1 -> 7 | D26: Dobava i montaža nadgradne magnetne tračnice 48V za montažu reflektora i linijskih inserata. Tračnica izrađena od aluminija u crnoj boji. Montaža rasvjetnih tijela putem magneta bez alata. U kompletu sa završnim kapama, nosačima i svim potrebnim priborom te spojnim elementima za montažu uključujuči i LED predspojnu napravu.Stupanj mehaničke zaštite minimalno IP20. Dimenzije poprečnog presjeka tračnice 26.2x28.7mm.Klasa zaštite III. Duljina segmenta tračnice 3m. | F26: kom | G26: 27 | I26: =H26*G26 -> 0
A28: =A26 -> 1. | B28: =B26+1 -> 8 | D28: Dobava i montaža nadgradne zidne protupanične svjetiljke s optikom za osvjetljavanje evakuacijskih puteva. Kučište svjetiljke izrađeno od polikarbonata završno bojanog u bijelu boju. Difuzor od polikarbonata. Snaga led izvora 2W. Autonomija rada minimalno 3h. Autotest dijagnostika. Radni napon 220-240V AC. Klasa zaštite II. Dimenzije svjetiljke 132x132x54mm. Minimalni izlazni svjetlosni tok svjetiljke 350lm. Minimalni raspon temperaturnog područja rada od 0°C do +40°C. Stupanj mehaničke zaštite minimalno IP41 IK07. Životni vijek LED izvora minimalno 50.000 sati. Temperatura boje 6000K. CE certificirana svjetiljka "ili jednakovrijedno"_________________ Sa svim potrebnim priborom, priključnim materijalom i elementima. Oznaka u projektu "EM1" NAZIV PROIZVOĐAČA: ________________ MODEL ILI TIP PROIZVODA: _______________
D29: Kriterij za ocjenu jednakovrijednosti: - Nadgradna svjetiljka sigurnosne rasvjete s optikom za osvjetljavanje evakuacijskih puteva. - Kučište svjetiljke izrađeno od polikarbonata završno bojanog u bijelu boju. - Difuzor od polikarbonata. - Snaga led izvora 2W. - Autonomija rada minimalno 3h. - Minimalni izlazni svjetlosni tok svjetiljke 350lm. - Autotest dijagnostika. - Radni napon 220-240V AC. - Klasa zaštite II. - Dimenzije svjetiljke 132x132x54mm. - Minimalni raspon temperaturnog područja rada od 0°C do +40°C. - Stupanj mehaničke zaštite minimalno IP41 IK07. - Životni vijek LED izvora minimalno 50.000 sati. - Temperatura boje 6000K. - CE certificirana svjetiljka ili jednakovrijedno ______________ ____________________________________ | F29: kom | G29: 11 | I29: =H29*G29 -> 0
A31: =A28 -> 1. | B31: =B28+1 -> 9 | D31: Dobava nadgradne, zidne protupanične svjetiljke s jednostrano digitalno printanim pokazivačem smjera "PK DOLJE". Kučište svjetiljke izrađeno od polikarbonata završno bojanog u bijelu boju. Opalni polikarbonatni difuzor. Snaga led izvora 2W. Autonomija rada minimalno 3h. Dimenzije svjetiljke 337x187x57mm. Autotest dijagnostika. Radni napon 220-240V AC. Klasa zaštite II. Vidljivost uočavanja piktograma VD minimalno 30m. Minimalni raspon temperaturnog područja rada od 0°C do +40°C. Stupanj mehaničke zaštite minimalno IP40 IK08. Životni vijek LED izvora minimalno 50.000 sati. Temperatura boje 6000K. CE certificirana svjetiljka "ili jednakovrijedno"_________________ Sa svim potrebnim priborom, priključnim materijalom i elementima. Oznaka u projektu "P1". NAZIV PROIZVOĐAČA: _________________ MODEL ILI TIP PROIZVODA: _________________
D32: Kriterij za ocjenu jednakovrijednosti: - Nadgradna, zidna protupanična svjetiljke s jednostrano digitalno printanim pokazivačem smjera "PK DOLJE " - Kučište svjetiljke izrađeno od polikarbonata završno bojanog u bijelu boju. - Opalni polikarbonatni difuzor. - Snaga led izvora maksimalno 2W - Autonomija rada minimalno 3h - Dimenzije svjetiljke 337x187x57mm. - Radni napon 220-240V AC - Klasa zaštite II - Minimalni raspon temperaturnog područja rada od 0°C do +40°C -Životni vijek LED izvora minimalno 50.000 sati - Temperatura boje 6000K - Stupanj mehaničke zaštite minimalno IP40 IK08 - Vidljivost uočavanja piktograma VD minimalno 30m - CE certificirana svjetiljka ili jednakovrijedno ____________________________ | F32: kom | G32: 8 | I32: =H32*G32 -> 0
A34: =A31 -> 1. | B34: =B31+1 -> 10 | D34: Dobava programabilnog DALI kontrolera za regulaciju intenziteta jakosti svjetlosnog toka svjetiljki. Kontroler za montažu na DIN šinu. Mogućnost integracije s BMS putem Etherneta. Dimenzije 160x100x58mm. Integriran sat. Mogućnost adresiranja i kontrole minimalno 64 svjetiljke. Mogućnost programiranja i dimanja svake svjetiljke individualno. CE certifciran "ili jednakovrijedno"________________. Ulazni napon 100V AC - 240V AC. | F34: kom | G34: 1 | I34: =H34*G34 -> 0
A36: =A34 -> 1. | B36: =B34+1 -> 11 | D36: Dobava programabilnog tipkala sa šest 8 programabilnih tipki bijele boje. Mogućnost odabira i kontrole do 7 scena + zaseban tipka za isključivanje.Dimenzije 35.4x48.4x31.8mm. CE certificirano "ili jednakovrijedno"________________,. U kompletu sa svim potrebnim dijelovima. | F36: kom | G36: 1 | I36: =H36*G36 -> 0
A38: =A36 -> 1. | B38: =B36+1 -> 12 | D38: Dobava i montaža jednorednog nadžbukong ormarića za smještaj DALi kontrolera, širine minimalno 10 DIN | F38: kom | G38: 1 | I38: =H38*G38 -> 0
A40: =A38 -> 1. | B40: =B38+1 -> 13 | D40: Demontaža stropnih svjetiljki u prostoru natkrivene terase, produžavanje napojnih kabela te ponovna montaža svjetiljki nakon izvedbe izolacije stropa | F40: kom | G40: 4 | I40: =H40*G40 -> 0
A42: =A40 -> 1. | B42: =B40+1 -> 14 | D42: Demontaža zidnih svjetiljki na dvorišnom zidu (na dijelu gdje će se stavljati izolacija), produžavanje napojnih kabela te ponovna montaža svjetiljki nakon izvedbe izolacije zida | F42: kom | G42: 4 | I42: =H42*G42 -> 0
A44: =A42 -> 1. | B44: =B42+1 -> 15 | D44: Demontaža svih elemenata na stropu unutar hodnika na dijelu gdje će se spuštati strop (rasvjeta, panik rasvjeta, javljač požara), produžavanje kabela, te monovna montaža nakon izvedbe spuštenog stropa | F44: kom | G44: 6 | I44: =H44*G44 -> 0
A46: =A44 -> 1. | B46: =B44+1 -> 16 | D46: Dobava i polaganje voda NYM-J 3x1,5mm2 | F46: m | G46: 140 | I46: =H46*G46 -> 0
A48: =A46 -> 1. | B48: =B46+1 -> 17 | D48: Dobava i polaganje voda NYM-J 3x2,5mm2 | F48: m | G48: 10 | I48: =H48*G48 -> 0
A50: =A48 -> 1. | B50: =B48+1 -> 18 | D50: Dobava i polaganje voda s očuvanom električnom funkcionalnožću 90min u slučaju požara NHXH-J FE180/E90 3x1,5mm2 | F50: m | G50: 5 | I50: =H50*G50 -> 0
A52: =A50 -> 1. | B52: =B50+1 -> 19 | D52: Dobava i polaganje voda NYY-J 5x2,5mm2 | F52: m | G52: 30 | I52: =H52*G52 -> 0
A54: =A52 -> 1. | B54: =B52+1 -> 20 | D54: Dobava i polaganje voda NYM-J 5x4mm2 | F54: m | G54: 25 | I54: =H54*G54 -> 0
A56: =A54 -> 1. | B56: =B54+1 -> 21 | D56: Dobava i polaganje voda NYY-J 5x16mm3 | F56: m | G56: 40 | I56: =H56*G56 -> 0
A58: =A54 -> 1. | B58: =B54+1 -> 21 | D58: Dobava i polaganje voda H07V-K 6 mm2 (izjednačenje potencijala) | F58: m | G58: 20 | I58: =H58*G58 -> 0
A60: =A56 -> 1. | B60: =B56+1 -> 22 | D60: Dobava i polaganje voda LiYCY 2x0,75 mm2 | F60: m | G60: 25 | I60: =H60*G60 -> 0
A62: =A58 -> 1. | B62: =B60+1 -> 23 | D62: Dobava i polaganje voda LiYCY 3x0,34 mm3 | F62: m | G62: 40 | I62: =H62*G62 -> 0
A64: =A60 -> 1. | B64: =B62+1 -> 24 | D64: Dobava i polaganje voda LiYCY 4x0,34 mm4 | F64: m | G64: 40 | I64: =H64*G64 -> 0
A66: =A62 -> 1. | B66: =B64+1 -> 25 | D66: Dobava i polaganje voda JB-Y(St)Y 1x2x0,8mm | F66: m | G66: 10 | I66: =H66*G66 -> 0
A68: =A64 -> 1. | B68: =B66+1 -> 26 | D68: Dobava i polaganje plastične kabel kanalice 40x25 mm | F68: m | G68: 60 | I68: =G68*H68 -> 0
A70: =A68 -> 1. | B70: =B68+1 -> 27 | D70: Dobava i polaganje plastične kabel kanalice 16x16 mm | F70: m | G70: 300 | I70: =H70*G70 -> 0
A72: =A70 -> 1. | B72: =B70+1 -> 28 | D72: Dobava i polaganje savitljive samogasive instalacijske cijevi do f 20 mm | F72: m | G72: 20 | I72: =H72*G72 -> 0
A74: =A72 -> 1. | B74: =B72+1 -> 29 | D74: Dobava sitnog potrošnog materijala (kabelske stopice, toploskupljajuće nazuvice, ljepljive trake, vijci,…) | F74: kom | G74: 1 | I74: =H74*G74 -> 0
...

Sheet SUNČANA ELEKTRANA
D1: TROŠKOVNIK ELEKTROINSTALACIJA
D3: NAPOMENA
D4: Cijena stavki mora sadržavati i sve pripremne i završne radove kao što su rezanje utora i kanala za cijevi i vodove, otvora za razdjelnice, proboja, obrade kanala i utora te zatvaranje. Ponuđač je obvezan osigurati gradilište od pristupa neovlaštenih osoba zbog mogućih ozljeda te sudionike građenja i opremu tijekom perioda građenja do predaje izvedenih radova korisniku.
A6: 1. | D6: ELEKTROENERGETSKE INSTALACIJE
E7: Jedinica mjere | F7: Količina | G7: Jediničina cijena u eurima bez PDV-a | H7: Ukupna jedinična cijena u eurima bez PDV-a
A8: 1. | B8: 1 | D8: Izvedba obračunskog mjernog mjesta: zamjena postojećeg brojila električne energije 3f s dvosmjernim brojilom 3f, ugradnja četveropolne osigurač-sklopke sa kratkospojnicima u odlazu s brojila. Radove izvodi HEP.
A10: =A8 -> 1. | B10: =B8+1 -> 2 | D10: Dobava, montaža i spajanje fotonaponskog monokristalnog modula Pmpp=410W+/-5%, korisnog djelovanja > 20% , dim. (v x š x d) 1724x1134x30 mm ±10%, s priključnom kutijom, kabelima za povezivanje i priborom za montažu | E10: kom | F10: 65 | H10: =F10*G10 -> 0
A12: =A10 -> 1. | B12: =B10+1 -> 3 | D12: Dobava, montaža i spajanje invertera/pretvarača slijedećih karakteristika: - Izlazna snaga min. 25 kW, 3f - DC napon min. 1000V - MPPT raspon napona 200-1000V +/-10% - Broj MPPT ulaza min: 3/2 - Struja MPPT-a min 26A - Struja kratkog spoja MPPT 32A +/-10% - Učinkovitost (EU) 98,5% +/-5% - Stupanj zaštite min. IP66 komplet sa svim priborom za montažu i povezivanje i s ugrađenom dodatnom opremom za daljinski nadzor i praćenje rada. | E12: kom | F12: 1 | H12: =F12*G12 -> 0
A14: =A12 -> 1. | B14: =B12+1 -> 4 | D14: Dobava i montaža betonskih nosača FN panela za montažu fotonaponskih modula na ravni krov, nagib 5°, težina nosača min 39kg. | E14: kom | F14: 80 | H14: =G14*F14 -> 0
A16: =A14 -> 1. | B16: =B14+1 -> 5 | D16: Dobava i montaža gumenih podloški 0,5x15x12cm za betonske nosače FN panela. (par) | E16: kom | F16: 80 | H16: =G16*F16 -> 0
A18: =A16 -> 1. | B18: =B16+1 -> 6 | D18: Dobava i montaža spojnice dva betonska nosača FN panela. | E18: kom | F18: 2 | H18: =G18*F18 -> 0
A20: =A18 -> 1. | B20: =B18+1 -> 7 | D20: Dobava i montaža spojnice dva betonska nosača FN panela za povezivanje u Istok - Zapad konfiguraciju. | E20: kom | F20: 36 | H20: =G20*F20 -> 0
A22: =A20 -> 1. | B22: =B20+1 -> 8 | D22: Dobava i montaža krajnjih klema za betonske nosače FN panela. (pak. 10 kom.) | E22: kom | F22: 6 | H22: =G22*F22 -> 0
A24: =A22 -> 1. | B24: =B22+1 -> 9 | D24: Dobava i montaža srednjih klema za betonske nosače FN panela. (pak. 10 kom.) | E24: kom | F24: 11 | H24: =G24*F24 -> 0
A26: =A24 -> 1. | B26: =B24+1 -> 10 | D26: Dobava, montaža i spajanje nadgradne razdjelnice RAC opremljene sljedećim elementima: - 1 kom zaštitna strujna sklopka FID 63/0,3, 4p, tip A - 1 kom automatski prekidač C 50A, 3p - 1 kom automatski prekidač B 6A, 1p - 1 kom daljinski okidač, 230V - 1 kom odvodnik prenapoma Tip 1+2, 0,4 kV, 25kA - 1 kom gljivasto tipkalo na vratima ormara za isključenje u nuždi, 230V, 6A - sitni potrošni materijal | E26: kom | F26: 1 | H26: =F26*G26 -> 0
A28: =A26 -> 1. | B28: =B26+1 -> 11 | D28: Dobava, montaža i spajanje nadgradne razdjelnice RDC opremljene sljedećim elementima: - 4 kom rastavna osigurač-sklopka 10x38, 2p - 8 kom osigurač gPV karakteristike 10x38, 16A - 4 kom PV odvodnik prenapona Tip1+2, 1000V, 12,5kA | E28: kom | F28: 1 | H28: =F28*G28 -> 0
A30: =A28 -> 1. | B30: =B28+1 -> 12 | D30: Dobava i montaža ručnog isključnog tipkala, IP 54 | E30: kom | F30: 1 | H30: =F30*G30 -> 0
A32: =A30 -> 1. | B32: =B30+1 -> 13 | D32: Dobava i polaganje kabela FG16OR16 5x10 mm2 | E32: m | F32: 20 | H32: =F32*G32 -> 0
A34: =A32 -> 1. | B34: =B32+1 -> 14 | D34: Dobava i polaganje kabela NYM-J 3x1,5 mm2 | E34: m | F34: 10 | H34: =F34*G34 -> 0
A36: =A34 -> 1. | B36: =B34+1 -> 15 | D36: Dobava i montaža čeličnog pocinčanog kabel kanala s poklopcem 60x100 mm, PKU100 (montaža do panela na krovu objekta) | E36: m | F36: 25 | H36: =F36*G36 -> 0
A38: =A36 -> 1. | B38: =B36+1 -> 16 | D38: Dobava i montaža betonskih kocki za polaganje metalnog kabel kanala po ravnom krovu | E38: kom | F38: 20 | H38: =G38*F38 -> 0
A40: =A38 -> 1. | B40: =B38+1 -> 17 | D40: Dobava i montaža XPS Termoizolacijske ploče za dodatnu zaštitu hidroizolacije krova ispod nosača kabel kanala i betonskih nosača FN panela (xps izrezati na veličinu podnožja betonskog nosača) | E40: m2 | F40: 10 | H40: =G40*F40 -> 0
A42: =A40 -> 1. | B42: =B40+1 -> 18 | D42: Dobava i montaža UV otporne kaoflex cijevi do ɸ40 | E42: m | F42: 40 | H42: =F42*G42 -> 0
A44: =A42 -> 1. | B44: =B42+1 -> 19 | D44: Dobava i montaža plastične kabel kanalice 40x40 mm (unutar objekta) | E44: m | F44: 25 | H44: =F44*G44 -> 0
A46: =A44 -> 1. | B46: =B44+1 -> 20 | D46: Izvedba prodora za provlačenje kabela između pojedinih prostorija i kroz stropove te dovođenje površina u prvobitno stanje | E46: kom | F46: 5 | H46: =G46*F46 -> 0
A48: =A46 -> 1. | B48: =B46+1 -> 21 | D48: Dobava i polaganje PV kabela, pokositrenog, finožičnog, dvostruko izoliranog 1x6 mm2 | E48: m | F48: 200 | H48: =G48*F48 -> 0
A50: =A48 -> 1. | B50: =B48+1 -> 22 | D50: Dobava i ugradnja MC4 konektora, set (M+Ž) | E50: kom | F50: 14 | H50: =G50*F50 -> 0
A52: =A50 -> 1. | B52: =B50+1 -> 23 | D52: Spajanje na postojeću sabirnicu izjednačenja potencijala i izvedba uzemljenja opreme sunčane elektrane vodom H07VV-K 10 mm2. (RAC, RDC, Izmjenjivač) | E52: kom | F52: 1 | H52: =G52*F52 -> 0
A54: =A52 -> 1. | B54: =B52+1 -> 24 | D54: Dobava voda H07VV-K 16 mm2 i izvedba izjednačenja potencijala između potkonstrukcije FN panela i LPS-a (gromobrana). | E54: m | F54: 25 | H54: =G54*F54 -> 0
A56: =A54 -> 1. | B56: =B54+1 -> 25 | D56: Dobava voda H07VV-K 6 mm2 i izvedba izjednačenja potencijala između potkonstrukcije i ostalih metalnih masa na krovu | E56: m | F56: 10 | H56: =G56*F56 -> 0
A58: =A56 -> 1. | B58: =B56+1 -> 26 | D58: Izmicanje dijela postojećeg LPS-a (gromobrana) za polaganje nosača solarnih panela. | E58: m | F58: 10 | H58: =G58*F58 -> 0
A60: =A58 -> 1. | B60: =B58+1 -> 27 | D60: Ispitivanje instalacije elektrane korisnika AC i DC strana prije puštanja u rad | E60: komplet | F60: 1 | H60: =G60*F60 -> 0
A62: =A60 -> 1. | B62: =B60+1 -> 28 | D62: Izrada Plana i programa ispitivanja (PPI) i usaglašavanje s nadležnim HEP ODS-om. | E62: komplet | F62: 1 | H62: =G62*F62 -> 0
A64: =A62 -> 1. | B64: =B62+1 -> 29 | D64: Završno ispitivanje elektrane u pokusnom radu | E64: komplet | F64: 1 | H64: =G64*F64 -> 0
A66: =A64 -> 1. | B66: =B64+1 -> 30 | D66: Izrada završnog izvješća izvođača radova, izjava o izvedenim radovima i popratna dokumentacija | E66: kpl. | F66: 1 | H66: =G66*F66 -> 0
A68: UKUPNO | H68: =SUM(H8:H67) -> 0
A70: PDV 0% | H70: 0
A72: SVEUKUPNO | H72: =H68+H70 -> 0

Sheet rekapitulacija
A1: =GO!A1:F1 -> Investitor: JAVNA USTANOVA U KULTURI HRVATSKI DOM VUKOVAR, Vukovar, J. J. Strossmayera 20, OIB: 04839169507 Opis zahvata: ENERGETSKA OBNOVA RODNE KUĆE LAVOSLAVA RUŽIČKE Mjesto gradnje: Vukovar, J. J. Strossmayera 25, k.č. 1745, k.o. Vukovar Siječanj 2024., zajednički broj projekta: 30/2023
B2: REKAPITULACIJA | C2: =GO!F2 -> UKUPNA JEDINIČNA CIJENA U EURIMA BEZ PDV-A
A4: ='[1]GRAĐEVINSKI RADOVI'!A9 -> A/ | B4: GRAĐEVINSKO-OBRTNIČKI RADOVI | C4: =GO!F387 -> 0
A6: ='[1]OBRTNIČKI RADOVI'!A4 -> B/ | B6: STROJARSKI RADOVI | C6: =STROJ!F13 -> 0
A8: ='[1]UREĐENJE OKOLIŠA'!A4 -> C/ | B8: ELEKTROTEHNIČKI RADOVI | C8: =ELEKTROINSTALACIJE!H149 -> 0
A10: D/ | B10: FOTONAPONSKA ELEKTRANA | C10: ='SUNČANA ELEKTRANA'!H68 -> 0
B12: SVEUKUPNO | C12: =SUM(C3:C11) -> 0
B14: PDV 25% (OSIM STAVKE D) | C14: =0.25*(C4+C6+C8) -> 0
B16: SVEUKUPNO S PDV-om | C16: =C12+C14 -> 0
